BEGIN:VCALENDAR
VERSION:2.0
PRODID:-//Tuscaloosa Specials - ECPv6.15.20//NONSGML v1.0//EN
CALSCALE:GREGORIAN
METHOD:PUBLISH
X-WR-CALNAME:Tuscaloosa Specials
X-ORIGINAL-URL:https://tuscaloosaspecials.com
X-WR-CALDESC:Events for Tuscaloosa Specials
REFRESH-INTERVAL;VALUE=DURATION:PT1H
X-Robots-Tag:noindex
X-PUBLISHED-TTL:PT1H
BEGIN:VTIMEZONE
TZID:America/Chicago
BEGIN:DAYLIGHT
TZOFFSETFROM:-0600
TZOFFSETTO:-0500
TZNAME:CDT
DTSTART:20210314T080000
END:DAYLIGHT
BEGIN:STANDARD
TZOFFSETFROM:-0500
TZOFFSETTO:-0600
TZNAME:CST
DTSTART:20211107T070000
END:STANDARD
BEGIN:DAYLIGHT
TZOFFSETFROM:-0600
TZOFFSETTO:-0500
TZNAME:CDT
DTSTART:20220313T080000
END:DAYLIGHT
BEGIN:STANDARD
TZOFFSETFROM:-0500
TZOFFSETTO:-0600
TZNAME:CST
DTSTART:20221106T070000
END:STANDARD
BEGIN:DAYLIGHT
TZOFFSETFROM:-0600
TZOFFSETTO:-0500
TZNAME:CDT
DTSTART:20230312T080000
END:DAYLIGHT
BEGIN:STANDARD
TZOFFSETFROM:-0500
TZOFFSETTO:-0600
TZNAME:CST
DTSTART:20231105T070000
END:STANDARD
END:VTIMEZONE
BEGIN:VEVENT
DTSTART;TZID=America/Chicago:20221031T150000
DTEND;TZID=America/Chicago:20221031T180000
DTSTAMP:20260422T205550
CREATED:20220802T034219Z
LAST-MODIFIED:20220906T025054Z
UID:10005115-1667228400-1667239200@tuscaloosaspecials.com
SUMMARY:Happy Hour @ Glory Bound
DESCRIPTION:1/2 off all drinks and beer. \nExcludes all the time deals and pitchers.
URL:https://tuscaloosaspecials.com/event/happy-hour-glory-bound/2022-10-31/
LOCATION:Glory Bound\, 1301 University Blvd\, Tuscaloosa\, AL\, 35401\, United States
CATEGORIES:Drink
END:VEVENT
BEGIN:VEVENT
DTSTART;TZID=America/Chicago:20221031T193000
DTEND;TZID=America/Chicago:20221031T210000
DTSTAMP:20260422T205550
CREATED:20220831T021232Z
LAST-MODIFIED:20220906T025247Z
UID:10004598-1667244600-1667250000@tuscaloosaspecials.com
SUMMARY:75¢ Wings @ Moe's Original BBQ
DESCRIPTION:
URL:https://tuscaloosaspecials.com/event/75-cent-wings-moes-original-bbq/2022-10-31/
LOCATION:Moe’s Original BBQ\, 2101 University Blvd\, Tuscaloosa\, AL\, 35401\, United States
CATEGORIES:Food
END:VEVENT
BEGIN:VEVENT
DTSTART;TZID=America/Chicago:20221031T220000
DTEND;TZID=America/Chicago:20221101T020000
DTSTAMP:20260422T205550
CREATED:20220802T021917Z
LAST-MODIFIED:20220906T024956Z
UID:10004675-1667253600-1667268000@tuscaloosaspecials.com
SUMMARY:Bingo @ Moe's Original BBQ
DESCRIPTION:$4 Angry Orchard \n$3 Twisted Tea \n$3 WhiteClaw \n$3 Fireball \n$2 Wine
URL:https://tuscaloosaspecials.com/event/bingo-moes-original-bbq/2022-10-31/
LOCATION:Moe’s Original BBQ\, 2101 University Blvd\, Tuscaloosa\, AL\, 35401\, United States
CATEGORIES:Drink,Entertainment
END:VEVENT
BEGIN:VEVENT
DTSTART;VALUE=DATE:20221101
DTEND;VALUE=DATE:20221103
DTSTAMP:20260422T205550
CREATED:20220902T021928Z
LAST-MODIFIED:20220902T230619Z
UID:10005398-1667271600-1667357999@tuscaloosaspecials.com
SUMMARY:$5 Domestic Pitchers @ Buffalo Phil's
DESCRIPTION:
URL:https://tuscaloosaspecials.com/event/5-domestic-pitchers-buffalo-phils/2022-11-01/
LOCATION:Buffalo Phil’s\, 1149 University Blvd\, Tuscaloosa\, AL\, 35401\, United States
CATEGORIES:Drink
END:VEVENT
BEGIN:VEVENT
DTSTART;VALUE=DATE:20221101
DTEND;VALUE=DATE:20221103
DTSTAMP:20260422T205550
CREATED:20220803T033909Z
LAST-MODIFIED:20220906T025417Z
UID:10004845-1667271600-1667357999@tuscaloosaspecials.com
SUMMARY:$6 Gyros @ Glory Bound
DESCRIPTION:
URL:https://tuscaloosaspecials.com/event/6-gyros-glory-bound/2022-11-01/
LOCATION:Glory Bound\, 1301 University Blvd\, Tuscaloosa\, AL\, 35401\, United States
CATEGORIES:Food
END:VEVENT
BEGIN:VEVENT
DTSTART;VALUE=DATE:20221101
DTEND;VALUE=DATE:20221103
DTSTAMP:20260422T205550
CREATED:20220802T224635Z
LAST-MODIFIED:20220902T230251Z
UID:10006122-1667271600-1667357999@tuscaloosaspecials.com
SUMMARY:Taco Tuesday & Margaritas @ World of Beer
DESCRIPTION:$2.50 (beef or blackened chicken) or $3.50 (shrimp or crispy chicken) Tacos\, $15 Margarita Pitchers
URL:https://tuscaloosaspecials.com/event/tuesday-specials-world-of-beer/2022-11-01/
LOCATION:World of Beer\, 2107 University Blvd\, Tuscaloosa\, AL\, 35401\, United States
CATEGORIES:Drink,Food
END:VEVENT
BEGIN:VEVENT
DTSTART;TZID=America/Chicago:20221101T150000
DTEND;TZID=America/Chicago:20221101T180000
DTSTAMP:20260422T205550
CREATED:20220902T023036Z
LAST-MODIFIED:20220902T023520Z
UID:10005973-1667314800-1667325600@tuscaloosaspecials.com
SUMMARY:Happy Hour @ Buffalo Phil's
DESCRIPTION:$2 Seltzers\, $2 Bottles (Budweiser\, Bud Light\, Michelob Ultra\, Coors Light\, Miller Light)\, $3 30oz Domestic Drafts\, $3 Shots (Babybombs\, Fireball)\, $5 Phil’s Specialty Drinks\, $5.50 Philibusters
URL:https://tuscaloosaspecials.com/event/happy-hour-buffalo-phils/2022-11-01/
LOCATION:Buffalo Phil’s\, 1149 University Blvd\, Tuscaloosa\, AL\, 35401\, United States
CATEGORIES:Drink
END:VEVENT
BEGIN:VEVENT
DTSTART;TZID=America/Chicago:20221101T150000
DTEND;TZID=America/Chicago:20221101T180000
DTSTAMP:20260422T205550
CREATED:20220802T034219Z
LAST-MODIFIED:20220906T025054Z
UID:10005116-1667314800-1667325600@tuscaloosaspecials.com
SUMMARY:Happy Hour @ Glory Bound
DESCRIPTION:1/2 off all drinks and beer. \nExcludes all the time deals and pitchers.
URL:https://tuscaloosaspecials.com/event/happy-hour-glory-bound/2022-11-01/
LOCATION:Glory Bound\, 1301 University Blvd\, Tuscaloosa\, AL\, 35401\, United States
CATEGORIES:Drink
END:VEVENT
BEGIN:VEVENT
DTSTART;VALUE=DATE:20221102
DTEND;VALUE=DATE:20221104
DTSTAMP:20260422T205550
CREATED:20220902T022106Z
LAST-MODIFIED:20230121T014443Z
UID:10005538-1667358000-1667444399@tuscaloosaspecials.com
SUMMARY:Wednesdays @ Buffalo Phil's
DESCRIPTION:$2 Seltzers\n$2 Happy Hour Bottles\n$4 Jagerboms & Vegasbombs
URL:https://tuscaloosaspecials.com/event/wednesdays-buffalo-phils/2022-11-02/
LOCATION:Buffalo Phil’s\, 1149 University Blvd\, Tuscaloosa\, AL\, 35401\, United States
CATEGORIES:Drink
END:VEVENT
BEGIN:VEVENT
DTSTART;VALUE=DATE:20221102
DTEND;VALUE=DATE:20221104
DTSTAMP:20260422T205550
CREATED:20220831T034000Z
LAST-MODIFIED:20221020T015213Z
UID:10004922-1667358000-1667444399@tuscaloosaspecials.com
SUMMARY:$7 Salads @ Glory Bound
DESCRIPTION:
URL:https://tuscaloosaspecials.com/event/6-salads-glory-bound/2022-11-02/
LOCATION:Glory Bound\, 1301 University Blvd\, Tuscaloosa\, AL\, 35401\, United States
CATEGORIES:Food
END:VEVENT
BEGIN:VEVENT
DTSTART;VALUE=DATE:20221102
DTEND;VALUE=DATE:20221104
DTSTAMP:20260422T205551
CREATED:20220804T031948Z
LAST-MODIFIED:20221117T032840Z
UID:10004752-1667358000-1667444399@tuscaloosaspecials.com
SUMMARY:All Day Happy Hour @ Moe's Original BBQ
DESCRIPTION:
URL:https://tuscaloosaspecials.com/event/all-day-happy-hour-moes-original-bbq/2022-11-02/
LOCATION:Moe’s Original BBQ\, 2101 University Blvd\, Tuscaloosa\, AL\, 35401\, United States
END:VEVENT
BEGIN:VEVENT
DTSTART;VALUE=DATE:20221102
DTEND;VALUE=DATE:20221104
DTSTAMP:20260422T205551
CREATED:20220803T224911Z
LAST-MODIFIED:20220902T225201Z
UID:10006199-1667358000-1667444399@tuscaloosaspecials.com
SUMMARY:$15 Dragon Berry Mojito Pitchers @ World of Beer
DESCRIPTION:
URL:https://tuscaloosaspecials.com/event/15-dragon-berry-mojito-pitchers-world-of-beer/2022-11-02/
LOCATION:World of Beer\, 2107 University Blvd\, Tuscaloosa\, AL\, 35401\, United States
CATEGORIES:Drink
END:VEVENT
BEGIN:VEVENT
DTSTART;TZID=America/Chicago:20221102T150000
DTEND;TZID=America/Chicago:20221102T180000
DTSTAMP:20260422T205551
CREATED:20220902T023036Z
LAST-MODIFIED:20220902T023520Z
UID:10005974-1667401200-1667412000@tuscaloosaspecials.com
SUMMARY:Happy Hour @ Buffalo Phil's
DESCRIPTION:$2 Seltzers\, $2 Bottles (Budweiser\, Bud Light\, Michelob Ultra\, Coors Light\, Miller Light)\, $3 30oz Domestic Drafts\, $3 Shots (Babybombs\, Fireball)\, $5 Phil’s Specialty Drinks\, $5.50 Philibusters
URL:https://tuscaloosaspecials.com/event/happy-hour-buffalo-phils/2022-11-02/
LOCATION:Buffalo Phil’s\, 1149 University Blvd\, Tuscaloosa\, AL\, 35401\, United States
CATEGORIES:Drink
END:VEVENT
BEGIN:VEVENT
DTSTART;TZID=America/Chicago:20221102T150000
DTEND;TZID=America/Chicago:20221102T180000
DTSTAMP:20260422T205551
CREATED:20220802T034219Z
LAST-MODIFIED:20220906T025054Z
UID:10005117-1667401200-1667412000@tuscaloosaspecials.com
SUMMARY:Happy Hour @ Glory Bound
DESCRIPTION:1/2 off all drinks and beer. \nExcludes all the time deals and pitchers.
URL:https://tuscaloosaspecials.com/event/happy-hour-glory-bound/2022-11-02/
LOCATION:Glory Bound\, 1301 University Blvd\, Tuscaloosa\, AL\, 35401\, United States
CATEGORIES:Drink
END:VEVENT
BEGIN:VEVENT
DTSTART;TZID=America/Chicago:20221102T190000
DTEND;TZID=America/Chicago:20221102T210000
DTSTAMP:20260422T205551
CREATED:20220817T230905Z
LAST-MODIFIED:20220902T231034Z
UID:10006376-1667415600-1667422800@tuscaloosaspecials.com
SUMMARY:Trivia @ World of Beer
DESCRIPTION:
URL:https://tuscaloosaspecials.com/event/trivia-world-of-beer/2022-11-02/
LOCATION:World of Beer\, 2107 University Blvd\, Tuscaloosa\, AL\, 35401\, United States
CATEGORIES:Entertainment
END:VEVENT
BEGIN:VEVENT
DTSTART;VALUE=DATE:20221103
DTEND;VALUE=DATE:20221105
DTSTAMP:20260422T205551
CREATED:20220902T022202Z
LAST-MODIFIED:20220902T023344Z
UID:10005615-1667444400-1667530799@tuscaloosaspecials.com
SUMMARY:$5 30oz Wells @ Buffalo Phil's
DESCRIPTION:
URL:https://tuscaloosaspecials.com/event/5-30-oz-wells-buffalo-phils/2022-11-03/
LOCATION:Buffalo Phil’s\, 1149 University Blvd\, Tuscaloosa\, AL\, 35401\, United States
CATEGORIES:Drink
END:VEVENT
BEGIN:VEVENT
DTSTART;VALUE=DATE:20221103
DTEND;VALUE=DATE:20221105
DTSTAMP:20260422T205551
CREATED:20220804T225416Z
LAST-MODIFIED:20220902T225543Z
UID:10006276-1667444400-1667530799@tuscaloosaspecials.com
SUMMARY:Wings @ World of Beer
DESCRIPTION:75¢ Traditional and $1 Boneless Wings
URL:https://tuscaloosaspecials.com/event/wings-world-of-beer/2022-11-03/
LOCATION:World of Beer\, 2107 University Blvd\, Tuscaloosa\, AL\, 35401\, United States
CATEGORIES:Food
END:VEVENT
BEGIN:VEVENT
DTSTART;TZID=America/Chicago:20221103T150000
DTEND;TZID=America/Chicago:20221103T180000
DTSTAMP:20260422T205551
CREATED:20220902T023036Z
LAST-MODIFIED:20220902T023520Z
UID:10005975-1667487600-1667498400@tuscaloosaspecials.com
SUMMARY:Happy Hour @ Buffalo Phil's
DESCRIPTION:$2 Seltzers\, $2 Bottles (Budweiser\, Bud Light\, Michelob Ultra\, Coors Light\, Miller Light)\, $3 30oz Domestic Drafts\, $3 Shots (Babybombs\, Fireball)\, $5 Phil’s Specialty Drinks\, $5.50 Philibusters
URL:https://tuscaloosaspecials.com/event/happy-hour-buffalo-phils/2022-11-03/
LOCATION:Buffalo Phil’s\, 1149 University Blvd\, Tuscaloosa\, AL\, 35401\, United States
CATEGORIES:Drink
END:VEVENT
BEGIN:VEVENT
DTSTART;TZID=America/Chicago:20221103T150000
DTEND;TZID=America/Chicago:20221103T180000
DTSTAMP:20260422T205551
CREATED:20220802T034219Z
LAST-MODIFIED:20220906T025054Z
UID:10005118-1667487600-1667498400@tuscaloosaspecials.com
SUMMARY:Happy Hour @ Glory Bound
DESCRIPTION:1/2 off all drinks and beer. \nExcludes all the time deals and pitchers.
URL:https://tuscaloosaspecials.com/event/happy-hour-glory-bound/2022-11-03/
LOCATION:Glory Bound\, 1301 University Blvd\, Tuscaloosa\, AL\, 35401\, United States
CATEGORIES:Drink
END:VEVENT
BEGIN:VEVENT
DTSTART;VALUE=DATE:20221104
DTEND;VALUE=DATE:20221106
DTSTAMP:20260422T205551
CREATED:20220902T022316Z
LAST-MODIFIED:20230121T014427Z
UID:10005692-1667530800-1667617199@tuscaloosaspecials.com
SUMMARY:Fridays @ Buffalo Phil's
DESCRIPTION:$2 Mexican Beers\, $5 30oz House Margaritas
URL:https://tuscaloosaspecials.com/event/fridays-buffalo-phils/2022-11-04/
LOCATION:Buffalo Phil’s\, 1149 University Blvd\, Tuscaloosa\, AL\, 35401\, United States
CATEGORIES:Drink
END:VEVENT
BEGIN:VEVENT
DTSTART;TZID=America/Chicago:20221104T150000
DTEND;TZID=America/Chicago:20221104T180000
DTSTAMP:20260422T205551
CREATED:20220902T023036Z
LAST-MODIFIED:20220902T023520Z
UID:10005976-1667574000-1667584800@tuscaloosaspecials.com
SUMMARY:Happy Hour @ Buffalo Phil's
DESCRIPTION:$2 Seltzers\, $2 Bottles (Budweiser\, Bud Light\, Michelob Ultra\, Coors Light\, Miller Light)\, $3 30oz Domestic Drafts\, $3 Shots (Babybombs\, Fireball)\, $5 Phil’s Specialty Drinks\, $5.50 Philibusters
URL:https://tuscaloosaspecials.com/event/happy-hour-buffalo-phils/2022-11-04/
LOCATION:Buffalo Phil’s\, 1149 University Blvd\, Tuscaloosa\, AL\, 35401\, United States
CATEGORIES:Drink
END:VEVENT
BEGIN:VEVENT
DTSTART;TZID=America/Chicago:20221104T180000
DTEND;TZID=America/Chicago:20221104T210000
DTSTAMP:20260422T205551
CREATED:20220805T232955Z
LAST-MODIFIED:20220905T212553Z
UID:10006385-1667584800-1667595600@tuscaloosaspecials.com
SUMMARY:First Friday @ Harrison Galleries
DESCRIPTION:Jazz Band\, Art Exhibit\, Drinks\, and Hors d’oeuvres \nhttps://www.firstfridaytuscaloosa.com
URL:https://tuscaloosaspecials.com/event/first-friday-harrison-galleries/2022-11-04/
LOCATION:AL
CATEGORIES:Drink,Entertainment,Food
END:VEVENT
BEGIN:VEVENT
DTSTART;TZID=America/Chicago:20221104T210000
DTEND;TZID=America/Chicago:20221105T020000
DTSTAMP:20260422T205551
CREATED:20220805T225620Z
LAST-MODIFIED:20220902T230424Z
UID:10006353-1667595600-1667613600@tuscaloosaspecials.com
SUMMARY:$5 Liquor Pitchers @ World Of Beer
DESCRIPTION:
URL:https://tuscaloosaspecials.com/event/5-liquor-pitchers-world-of-beer/2022-11-04/
LOCATION:World of Beer\, 2107 University Blvd\, Tuscaloosa\, AL\, 35401\, United States
CATEGORIES:Drink
END:VEVENT
BEGIN:VEVENT
DTSTART;VALUE=DATE:20221106
DTEND;VALUE=DATE:20221108
DTSTAMP:20260422T205551
CREATED:20220902T022621Z
LAST-MODIFIED:20230121T014355Z
UID:10005844-1667703600-1667789999@tuscaloosaspecials.com
SUMMARY:Sundays @ Buffalo Phil's
DESCRIPTION:$2 Mimosas\, $3 Bloody Marys or Screwdrivers\, $4 Double Mimosas\, $5.50 Philibuster
URL:https://tuscaloosaspecials.com/event/sundays-buffalo-phils-4/2022-11-06/
LOCATION:Buffalo Phil’s\, 1149 University Blvd\, Tuscaloosa\, AL\, 35401\, United States
CATEGORIES:Drink
END:VEVENT
BEGIN:VEVENT
DTSTART;VALUE=DATE:20221107
DTEND;VALUE=DATE:20221109
DTSTAMP:20260422T205551
CREATED:20220902T021928Z
LAST-MODIFIED:20220902T230619Z
UID:10005399-1667790000-1667876399@tuscaloosaspecials.com
SUMMARY:$5 Domestic Pitchers @ Buffalo Phil's
DESCRIPTION:
URL:https://tuscaloosaspecials.com/event/5-domestic-pitchers-buffalo-phils/2022-11-07/
LOCATION:Buffalo Phil’s\, 1149 University Blvd\, Tuscaloosa\, AL\, 35401\, United States
CATEGORIES:Drink
END:VEVENT
BEGIN:VEVENT
DTSTART;VALUE=DATE:20221107
DTEND;VALUE=DATE:20221109
DTSTAMP:20260422T205551
CREATED:20220802T034031Z
LAST-MODIFIED:20221020T015314Z
UID:10005000-1667790000-1667876399@tuscaloosaspecials.com
SUMMARY:$9 Pizzas @ Glory Bound
DESCRIPTION:
URL:https://tuscaloosaspecials.com/event/8-pizzas-glory-bound/2022-11-07/
LOCATION:Glory Bound\, 1301 University Blvd\, Tuscaloosa\, AL\, 35401\, United States
CATEGORIES:Food
END:VEVENT
BEGIN:VEVENT
DTSTART;VALUE=DATE:20221107
DTEND;VALUE=DATE:20221109
DTSTAMP:20260422T205551
CREATED:20220802T033320Z
LAST-MODIFIED:20220906T024745Z
UID:10004769-1667790000-1667876399@tuscaloosaspecials.com
SUMMARY:$6.99 Moe Monday Deal @ Moe's Southwest Grill
DESCRIPTION:Deal requires app.
URL:https://tuscaloosaspecials.com/event/6-99-moe-monday-deal-moes-southwest-grill/2022-11-07/
LOCATION:Moe’s Southwest Grill\, 1130 University Blvd\, Tuscaloosa\, AL\, 35401\, United States
CATEGORIES:Food
END:VEVENT
BEGIN:VEVENT
DTSTART;VALUE=DATE:20221107
DTEND;VALUE=DATE:20221109
DTSTAMP:20260422T205551
CREATED:20220801T224622Z
LAST-MODIFIED:20230121T013457Z
UID:10006046-1667790000-1667876399@tuscaloosaspecials.com
SUMMARY:Mondays @ World Of Beer
DESCRIPTION:$5.95 Build Your Own Burger\, $5 Domestic Beer Pitchers
URL:https://tuscaloosaspecials.com/event/monday-specials-world-of-beer/2022-11-07/
LOCATION:World of Beer\, 2107 University Blvd\, Tuscaloosa\, AL\, 35401\, United States
CATEGORIES:Drink,Food
END:VEVENT
BEGIN:VEVENT
DTSTART;TZID=America/Chicago:20221107T150000
DTEND;TZID=America/Chicago:20221107T180000
DTSTAMP:20260422T205551
CREATED:20220902T023036Z
LAST-MODIFIED:20220902T023520Z
UID:10005977-1667833200-1667844000@tuscaloosaspecials.com
SUMMARY:Happy Hour @ Buffalo Phil's
DESCRIPTION:$2 Seltzers\, $2 Bottles (Budweiser\, Bud Light\, Michelob Ultra\, Coors Light\, Miller Light)\, $3 30oz Domestic Drafts\, $3 Shots (Babybombs\, Fireball)\, $5 Phil’s Specialty Drinks\, $5.50 Philibusters
URL:https://tuscaloosaspecials.com/event/happy-hour-buffalo-phils/2022-11-07/
LOCATION:Buffalo Phil’s\, 1149 University Blvd\, Tuscaloosa\, AL\, 35401\, United States
CATEGORIES:Drink
END:VEVENT
BEGIN:VEVENT
DTSTART;TZID=America/Chicago:20221107T150000
DTEND;TZID=America/Chicago:20221107T180000
DTSTAMP:20260422T205551
CREATED:20220802T034219Z
LAST-MODIFIED:20220906T025054Z
UID:10005119-1667833200-1667844000@tuscaloosaspecials.com
SUMMARY:Happy Hour @ Glory Bound
DESCRIPTION:1/2 off all drinks and beer. \nExcludes all the time deals and pitchers.
URL:https://tuscaloosaspecials.com/event/happy-hour-glory-bound/2022-11-07/
LOCATION:Glory Bound\, 1301 University Blvd\, Tuscaloosa\, AL\, 35401\, United States
CATEGORIES:Drink
END:VEVENT
END:VCALENDAR