BEGIN:VCALENDAR
VERSION:2.0
PRODID:-//Tuscaloosa Specials - ECPv6.15.20//NONSGML v1.0//EN
CALSCALE:GREGORIAN
METHOD:PUBLISH
X-WR-CALNAME:Tuscaloosa Specials
X-ORIGINAL-URL:https://tuscaloosaspecials.com
X-WR-CALDESC:Events for Tuscaloosa Specials
REFRESH-INTERVAL;VALUE=DURATION:PT1H
X-Robots-Tag:noindex
X-PUBLISHED-TTL:PT1H
BEGIN:VTIMEZONE
TZID:America/Chicago
BEGIN:DAYLIGHT
TZOFFSETFROM:-0600
TZOFFSETTO:-0500
TZNAME:CDT
DTSTART:20210314T080000
END:DAYLIGHT
BEGIN:STANDARD
TZOFFSETFROM:-0500
TZOFFSETTO:-0600
TZNAME:CST
DTSTART:20211107T070000
END:STANDARD
BEGIN:DAYLIGHT
TZOFFSETFROM:-0600
TZOFFSETTO:-0500
TZNAME:CDT
DTSTART:20220313T080000
END:DAYLIGHT
BEGIN:STANDARD
TZOFFSETFROM:-0500
TZOFFSETTO:-0600
TZNAME:CST
DTSTART:20221106T070000
END:STANDARD
BEGIN:DAYLIGHT
TZOFFSETFROM:-0600
TZOFFSETTO:-0500
TZNAME:CDT
DTSTART:20230312T080000
END:DAYLIGHT
BEGIN:STANDARD
TZOFFSETFROM:-0500
TZOFFSETTO:-0600
TZNAME:CST
DTSTART:20231105T070000
END:STANDARD
END:VTIMEZONE
BEGIN:VEVENT
DTSTART;TZID=America/Chicago:20221108T150000
DTEND;TZID=America/Chicago:20221108T180000
DTSTAMP:20260424T194004
CREATED:20220802T034219Z
LAST-MODIFIED:20220906T025054Z
UID:10005120-1667919600-1667930400@tuscaloosaspecials.com
SUMMARY:Happy Hour @ Glory Bound
DESCRIPTION:1/2 off all drinks and beer. \nExcludes all the time deals and pitchers.
URL:https://tuscaloosaspecials.com/event/happy-hour-glory-bound/2022-11-08/
LOCATION:Glory Bound\, 1301 University Blvd\, Tuscaloosa\, AL\, 35401\, United States
CATEGORIES:Drink
END:VEVENT
BEGIN:VEVENT
DTSTART;VALUE=DATE:20221109
DTEND;VALUE=DATE:20221111
DTSTAMP:20260424T194004
CREATED:20220902T022106Z
LAST-MODIFIED:20230121T014443Z
UID:10005539-1667962800-1668049199@tuscaloosaspecials.com
SUMMARY:Wednesdays @ Buffalo Phil's
DESCRIPTION:$2 Seltzers\n$2 Happy Hour Bottles\n$4 Jagerboms & Vegasbombs
URL:https://tuscaloosaspecials.com/event/wednesdays-buffalo-phils/2022-11-09/
LOCATION:Buffalo Phil’s\, 1149 University Blvd\, Tuscaloosa\, AL\, 35401\, United States
CATEGORIES:Drink
END:VEVENT
BEGIN:VEVENT
DTSTART;VALUE=DATE:20221109
DTEND;VALUE=DATE:20221111
DTSTAMP:20260424T194004
CREATED:20220831T034000Z
LAST-MODIFIED:20221020T015213Z
UID:10004923-1667962800-1668049199@tuscaloosaspecials.com
SUMMARY:$7 Salads @ Glory Bound
DESCRIPTION:
URL:https://tuscaloosaspecials.com/event/6-salads-glory-bound/2022-11-09/
LOCATION:Glory Bound\, 1301 University Blvd\, Tuscaloosa\, AL\, 35401\, United States
CATEGORIES:Food
END:VEVENT
BEGIN:VEVENT
DTSTART;VALUE=DATE:20221109
DTEND;VALUE=DATE:20221111
DTSTAMP:20260424T194004
CREATED:20220804T031948Z
LAST-MODIFIED:20221117T032840Z
UID:10004753-1667962800-1668049199@tuscaloosaspecials.com
SUMMARY:All Day Happy Hour @ Moe's Original BBQ
DESCRIPTION:
URL:https://tuscaloosaspecials.com/event/all-day-happy-hour-moes-original-bbq/2022-11-09/
LOCATION:Moe’s Original BBQ\, 2101 University Blvd\, Tuscaloosa\, AL\, 35401\, United States
END:VEVENT
BEGIN:VEVENT
DTSTART;VALUE=DATE:20221109
DTEND;VALUE=DATE:20221111
DTSTAMP:20260424T194004
CREATED:20220803T224911Z
LAST-MODIFIED:20220902T225201Z
UID:10006200-1667962800-1668049199@tuscaloosaspecials.com
SUMMARY:$15 Dragon Berry Mojito Pitchers @ World of Beer
DESCRIPTION:
URL:https://tuscaloosaspecials.com/event/15-dragon-berry-mojito-pitchers-world-of-beer/2022-11-09/
LOCATION:World of Beer\, 2107 University Blvd\, Tuscaloosa\, AL\, 35401\, United States
CATEGORIES:Drink
END:VEVENT
BEGIN:VEVENT
DTSTART;TZID=America/Chicago:20221109T150000
DTEND;TZID=America/Chicago:20221109T180000
DTSTAMP:20260424T194004
CREATED:20220902T023036Z
LAST-MODIFIED:20220902T023520Z
UID:10005979-1668006000-1668016800@tuscaloosaspecials.com
SUMMARY:Happy Hour @ Buffalo Phil's
DESCRIPTION:$2 Seltzers\, $2 Bottles (Budweiser\, Bud Light\, Michelob Ultra\, Coors Light\, Miller Light)\, $3 30oz Domestic Drafts\, $3 Shots (Babybombs\, Fireball)\, $5 Phil’s Specialty Drinks\, $5.50 Philibusters
URL:https://tuscaloosaspecials.com/event/happy-hour-buffalo-phils/2022-11-09/
LOCATION:Buffalo Phil’s\, 1149 University Blvd\, Tuscaloosa\, AL\, 35401\, United States
CATEGORIES:Drink
END:VEVENT
BEGIN:VEVENT
DTSTART;TZID=America/Chicago:20221109T150000
DTEND;TZID=America/Chicago:20221109T180000
DTSTAMP:20260424T194004
CREATED:20220802T034219Z
LAST-MODIFIED:20220906T025054Z
UID:10005121-1668006000-1668016800@tuscaloosaspecials.com
SUMMARY:Happy Hour @ Glory Bound
DESCRIPTION:1/2 off all drinks and beer. \nExcludes all the time deals and pitchers.
URL:https://tuscaloosaspecials.com/event/happy-hour-glory-bound/2022-11-09/
LOCATION:Glory Bound\, 1301 University Blvd\, Tuscaloosa\, AL\, 35401\, United States
CATEGORIES:Drink
END:VEVENT
BEGIN:VEVENT
DTSTART;TZID=America/Chicago:20221109T190000
DTEND;TZID=America/Chicago:20221109T210000
DTSTAMP:20260424T194004
CREATED:20220817T230905Z
LAST-MODIFIED:20220902T231034Z
UID:10006377-1668020400-1668027600@tuscaloosaspecials.com
SUMMARY:Trivia @ World of Beer
DESCRIPTION:
URL:https://tuscaloosaspecials.com/event/trivia-world-of-beer/2022-11-09/
LOCATION:World of Beer\, 2107 University Blvd\, Tuscaloosa\, AL\, 35401\, United States
CATEGORIES:Entertainment
END:VEVENT
BEGIN:VEVENT
DTSTART;VALUE=DATE:20221110
DTEND;VALUE=DATE:20221112
DTSTAMP:20260424T194004
CREATED:20220902T022202Z
LAST-MODIFIED:20220902T023344Z
UID:10005616-1668049200-1668135599@tuscaloosaspecials.com
SUMMARY:$5 30oz Wells @ Buffalo Phil's
DESCRIPTION:
URL:https://tuscaloosaspecials.com/event/5-30-oz-wells-buffalo-phils/2022-11-10/
LOCATION:Buffalo Phil’s\, 1149 University Blvd\, Tuscaloosa\, AL\, 35401\, United States
CATEGORIES:Drink
END:VEVENT
BEGIN:VEVENT
DTSTART;VALUE=DATE:20221110
DTEND;VALUE=DATE:20221112
DTSTAMP:20260424T194004
CREATED:20220804T225416Z
LAST-MODIFIED:20220902T225543Z
UID:10006277-1668049200-1668135599@tuscaloosaspecials.com
SUMMARY:Wings @ World of Beer
DESCRIPTION:75¢ Traditional and $1 Boneless Wings
URL:https://tuscaloosaspecials.com/event/wings-world-of-beer/2022-11-10/
LOCATION:World of Beer\, 2107 University Blvd\, Tuscaloosa\, AL\, 35401\, United States
CATEGORIES:Food
END:VEVENT
BEGIN:VEVENT
DTSTART;TZID=America/Chicago:20221110T150000
DTEND;TZID=America/Chicago:20221110T180000
DTSTAMP:20260424T194004
CREATED:20220902T023036Z
LAST-MODIFIED:20220902T023520Z
UID:10005980-1668092400-1668103200@tuscaloosaspecials.com
SUMMARY:Happy Hour @ Buffalo Phil's
DESCRIPTION:$2 Seltzers\, $2 Bottles (Budweiser\, Bud Light\, Michelob Ultra\, Coors Light\, Miller Light)\, $3 30oz Domestic Drafts\, $3 Shots (Babybombs\, Fireball)\, $5 Phil’s Specialty Drinks\, $5.50 Philibusters
URL:https://tuscaloosaspecials.com/event/happy-hour-buffalo-phils/2022-11-10/
LOCATION:Buffalo Phil’s\, 1149 University Blvd\, Tuscaloosa\, AL\, 35401\, United States
CATEGORIES:Drink
END:VEVENT
BEGIN:VEVENT
DTSTART;TZID=America/Chicago:20221110T150000
DTEND;TZID=America/Chicago:20221110T180000
DTSTAMP:20260424T194004
CREATED:20220802T034219Z
LAST-MODIFIED:20220906T025054Z
UID:10005122-1668092400-1668103200@tuscaloosaspecials.com
SUMMARY:Happy Hour @ Glory Bound
DESCRIPTION:1/2 off all drinks and beer. \nExcludes all the time deals and pitchers.
URL:https://tuscaloosaspecials.com/event/happy-hour-glory-bound/2022-11-10/
LOCATION:Glory Bound\, 1301 University Blvd\, Tuscaloosa\, AL\, 35401\, United States
CATEGORIES:Drink
END:VEVENT
BEGIN:VEVENT
DTSTART;VALUE=DATE:20221111
DTEND;VALUE=DATE:20221113
DTSTAMP:20260424T194004
CREATED:20220902T022316Z
LAST-MODIFIED:20230121T014427Z
UID:10005693-1668135600-1668221999@tuscaloosaspecials.com
SUMMARY:Fridays @ Buffalo Phil's
DESCRIPTION:$2 Mexican Beers\, $5 30oz House Margaritas
URL:https://tuscaloosaspecials.com/event/fridays-buffalo-phils/2022-11-11/
LOCATION:Buffalo Phil’s\, 1149 University Blvd\, Tuscaloosa\, AL\, 35401\, United States
CATEGORIES:Drink
END:VEVENT
BEGIN:VEVENT
DTSTART;TZID=America/Chicago:20221111T150000
DTEND;TZID=America/Chicago:20221111T180000
DTSTAMP:20260424T194004
CREATED:20220902T023036Z
LAST-MODIFIED:20220902T023520Z
UID:10005981-1668178800-1668189600@tuscaloosaspecials.com
SUMMARY:Happy Hour @ Buffalo Phil's
DESCRIPTION:$2 Seltzers\, $2 Bottles (Budweiser\, Bud Light\, Michelob Ultra\, Coors Light\, Miller Light)\, $3 30oz Domestic Drafts\, $3 Shots (Babybombs\, Fireball)\, $5 Phil’s Specialty Drinks\, $5.50 Philibusters
URL:https://tuscaloosaspecials.com/event/happy-hour-buffalo-phils/2022-11-11/
LOCATION:Buffalo Phil’s\, 1149 University Blvd\, Tuscaloosa\, AL\, 35401\, United States
CATEGORIES:Drink
END:VEVENT
BEGIN:VEVENT
DTSTART;TZID=America/Chicago:20221111T210000
DTEND;TZID=America/Chicago:20221112T020000
DTSTAMP:20260424T194004
CREATED:20220805T225620Z
LAST-MODIFIED:20220902T230424Z
UID:10006354-1668200400-1668218400@tuscaloosaspecials.com
SUMMARY:$5 Liquor Pitchers @ World Of Beer
DESCRIPTION:
URL:https://tuscaloosaspecials.com/event/5-liquor-pitchers-world-of-beer/2022-11-11/
LOCATION:World of Beer\, 2107 University Blvd\, Tuscaloosa\, AL\, 35401\, United States
CATEGORIES:Drink
END:VEVENT
BEGIN:VEVENT
DTSTART;VALUE=DATE:20221112
DTEND;VALUE=DATE:20221114
DTSTAMP:20260424T194004
CREATED:20220902T022457Z
LAST-MODIFIED:20230121T014413Z
UID:10005769-1668222000-1668308399@tuscaloosaspecials.com
SUMMARY:Saturdays @ Buffalo Phil's
DESCRIPTION:$2 Local/Craft Cans & Bottles\, $3 Local Pints\, $4 Local Spirit Singles\, $5 Local Talls
URL:https://tuscaloosaspecials.com/event/saturdays-buffalo-phils/2022-11-12/
LOCATION:Buffalo Phil’s\, 1149 University Blvd\, Tuscaloosa\, AL\, 35401\, United States
CATEGORIES:Drink
END:VEVENT
BEGIN:VEVENT
DTSTART;VALUE=DATE:20221113
DTEND;VALUE=DATE:20221115
DTSTAMP:20260424T194005
CREATED:20220902T022621Z
LAST-MODIFIED:20230121T014355Z
UID:10005845-1668308400-1668394799@tuscaloosaspecials.com
SUMMARY:Sundays @ Buffalo Phil's
DESCRIPTION:$2 Mimosas\, $3 Bloody Marys or Screwdrivers\, $4 Double Mimosas\, $5.50 Philibuster
URL:https://tuscaloosaspecials.com/event/sundays-buffalo-phils-4/2022-11-13/
LOCATION:Buffalo Phil’s\, 1149 University Blvd\, Tuscaloosa\, AL\, 35401\, United States
CATEGORIES:Drink
END:VEVENT
BEGIN:VEVENT
DTSTART;VALUE=DATE:20221114
DTEND;VALUE=DATE:20221116
DTSTAMP:20260424T194005
CREATED:20220902T021928Z
LAST-MODIFIED:20220902T230619Z
UID:10005401-1668394800-1668481199@tuscaloosaspecials.com
SUMMARY:$5 Domestic Pitchers @ Buffalo Phil's
DESCRIPTION:
URL:https://tuscaloosaspecials.com/event/5-domestic-pitchers-buffalo-phils/2022-11-14/
LOCATION:Buffalo Phil’s\, 1149 University Blvd\, Tuscaloosa\, AL\, 35401\, United States
CATEGORIES:Drink
END:VEVENT
BEGIN:VEVENT
DTSTART;VALUE=DATE:20221114
DTEND;VALUE=DATE:20221116
DTSTAMP:20260424T194005
CREATED:20220802T034031Z
LAST-MODIFIED:20221020T015314Z
UID:10005001-1668394800-1668481199@tuscaloosaspecials.com
SUMMARY:$9 Pizzas @ Glory Bound
DESCRIPTION:
URL:https://tuscaloosaspecials.com/event/8-pizzas-glory-bound/2022-11-14/
LOCATION:Glory Bound\, 1301 University Blvd\, Tuscaloosa\, AL\, 35401\, United States
CATEGORIES:Food
END:VEVENT
BEGIN:VEVENT
DTSTART;VALUE=DATE:20221114
DTEND;VALUE=DATE:20221116
DTSTAMP:20260424T194005
CREATED:20220802T033320Z
LAST-MODIFIED:20220906T024745Z
UID:10004770-1668394800-1668481199@tuscaloosaspecials.com
SUMMARY:$6.99 Moe Monday Deal @ Moe's Southwest Grill
DESCRIPTION:Deal requires app.
URL:https://tuscaloosaspecials.com/event/6-99-moe-monday-deal-moes-southwest-grill/2022-11-14/
LOCATION:Moe’s Southwest Grill\, 1130 University Blvd\, Tuscaloosa\, AL\, 35401\, United States
CATEGORIES:Food
END:VEVENT
BEGIN:VEVENT
DTSTART;VALUE=DATE:20221114
DTEND;VALUE=DATE:20221116
DTSTAMP:20260424T194005
CREATED:20220801T224622Z
LAST-MODIFIED:20230121T013457Z
UID:10006047-1668394800-1668481199@tuscaloosaspecials.com
SUMMARY:Mondays @ World Of Beer
DESCRIPTION:$5.95 Build Your Own Burger\, $5 Domestic Beer Pitchers
URL:https://tuscaloosaspecials.com/event/monday-specials-world-of-beer/2022-11-14/
LOCATION:World of Beer\, 2107 University Blvd\, Tuscaloosa\, AL\, 35401\, United States
CATEGORIES:Drink,Food
END:VEVENT
BEGIN:VEVENT
DTSTART;TZID=America/Chicago:20221114T150000
DTEND;TZID=America/Chicago:20221114T180000
DTSTAMP:20260424T194005
CREATED:20220902T023036Z
LAST-MODIFIED:20220902T023520Z
UID:10005982-1668438000-1668448800@tuscaloosaspecials.com
SUMMARY:Happy Hour @ Buffalo Phil's
DESCRIPTION:$2 Seltzers\, $2 Bottles (Budweiser\, Bud Light\, Michelob Ultra\, Coors Light\, Miller Light)\, $3 30oz Domestic Drafts\, $3 Shots (Babybombs\, Fireball)\, $5 Phil’s Specialty Drinks\, $5.50 Philibusters
URL:https://tuscaloosaspecials.com/event/happy-hour-buffalo-phils/2022-11-14/
LOCATION:Buffalo Phil’s\, 1149 University Blvd\, Tuscaloosa\, AL\, 35401\, United States
CATEGORIES:Drink
END:VEVENT
BEGIN:VEVENT
DTSTART;TZID=America/Chicago:20221114T150000
DTEND;TZID=America/Chicago:20221114T180000
DTSTAMP:20260424T194005
CREATED:20220802T034219Z
LAST-MODIFIED:20220906T025054Z
UID:10005123-1668438000-1668448800@tuscaloosaspecials.com
SUMMARY:Happy Hour @ Glory Bound
DESCRIPTION:1/2 off all drinks and beer. \nExcludes all the time deals and pitchers.
URL:https://tuscaloosaspecials.com/event/happy-hour-glory-bound/2022-11-14/
LOCATION:Glory Bound\, 1301 University Blvd\, Tuscaloosa\, AL\, 35401\, United States
CATEGORIES:Drink
END:VEVENT
BEGIN:VEVENT
DTSTART;TZID=America/Chicago:20221114T193000
DTEND;TZID=America/Chicago:20221114T210000
DTSTAMP:20260424T194005
CREATED:20220831T021232Z
LAST-MODIFIED:20220906T025247Z
UID:10004600-1668454200-1668459600@tuscaloosaspecials.com
SUMMARY:75¢ Wings @ Moe's Original BBQ
DESCRIPTION:
URL:https://tuscaloosaspecials.com/event/75-cent-wings-moes-original-bbq/2022-11-14/
LOCATION:Moe’s Original BBQ\, 2101 University Blvd\, Tuscaloosa\, AL\, 35401\, United States
CATEGORIES:Food
END:VEVENT
BEGIN:VEVENT
DTSTART;TZID=America/Chicago:20221114T220000
DTEND;TZID=America/Chicago:20221115T020000
DTSTAMP:20260424T194005
CREATED:20220802T021917Z
LAST-MODIFIED:20220906T024956Z
UID:10004677-1668463200-1668477600@tuscaloosaspecials.com
SUMMARY:Bingo @ Moe's Original BBQ
DESCRIPTION:$4 Angry Orchard \n$3 Twisted Tea \n$3 WhiteClaw \n$3 Fireball \n$2 Wine
URL:https://tuscaloosaspecials.com/event/bingo-moes-original-bbq/2022-11-14/
LOCATION:Moe’s Original BBQ\, 2101 University Blvd\, Tuscaloosa\, AL\, 35401\, United States
CATEGORIES:Drink,Entertainment
END:VEVENT
BEGIN:VEVENT
DTSTART;VALUE=DATE:20221115
DTEND;VALUE=DATE:20221117
DTSTAMP:20260424T194005
CREATED:20220902T021928Z
LAST-MODIFIED:20220902T230619Z
UID:10005402-1668481200-1668567599@tuscaloosaspecials.com
SUMMARY:$5 Domestic Pitchers @ Buffalo Phil's
DESCRIPTION:
URL:https://tuscaloosaspecials.com/event/5-domestic-pitchers-buffalo-phils/2022-11-15/
LOCATION:Buffalo Phil’s\, 1149 University Blvd\, Tuscaloosa\, AL\, 35401\, United States
CATEGORIES:Drink
END:VEVENT
BEGIN:VEVENT
DTSTART;VALUE=DATE:20221115
DTEND;VALUE=DATE:20221117
DTSTAMP:20260424T194005
CREATED:20220803T033909Z
LAST-MODIFIED:20220906T025417Z
UID:10004847-1668481200-1668567599@tuscaloosaspecials.com
SUMMARY:$6 Gyros @ Glory Bound
DESCRIPTION:
URL:https://tuscaloosaspecials.com/event/6-gyros-glory-bound/2022-11-15/
LOCATION:Glory Bound\, 1301 University Blvd\, Tuscaloosa\, AL\, 35401\, United States
CATEGORIES:Food
END:VEVENT
BEGIN:VEVENT
DTSTART;VALUE=DATE:20221115
DTEND;VALUE=DATE:20221117
DTSTAMP:20260424T194005
CREATED:20220802T224635Z
LAST-MODIFIED:20220902T230251Z
UID:10006124-1668481200-1668567599@tuscaloosaspecials.com
SUMMARY:Taco Tuesday & Margaritas @ World of Beer
DESCRIPTION:$2.50 (beef or blackened chicken) or $3.50 (shrimp or crispy chicken) Tacos\, $15 Margarita Pitchers
URL:https://tuscaloosaspecials.com/event/tuesday-specials-world-of-beer/2022-11-15/
LOCATION:World of Beer\, 2107 University Blvd\, Tuscaloosa\, AL\, 35401\, United States
CATEGORIES:Drink,Food
END:VEVENT
BEGIN:VEVENT
DTSTART;TZID=America/Chicago:20221115T150000
DTEND;TZID=America/Chicago:20221115T180000
DTSTAMP:20260424T194005
CREATED:20220902T023036Z
LAST-MODIFIED:20220902T023520Z
UID:10005983-1668524400-1668535200@tuscaloosaspecials.com
SUMMARY:Happy Hour @ Buffalo Phil's
DESCRIPTION:$2 Seltzers\, $2 Bottles (Budweiser\, Bud Light\, Michelob Ultra\, Coors Light\, Miller Light)\, $3 30oz Domestic Drafts\, $3 Shots (Babybombs\, Fireball)\, $5 Phil’s Specialty Drinks\, $5.50 Philibusters
URL:https://tuscaloosaspecials.com/event/happy-hour-buffalo-phils/2022-11-15/
LOCATION:Buffalo Phil’s\, 1149 University Blvd\, Tuscaloosa\, AL\, 35401\, United States
CATEGORIES:Drink
END:VEVENT
BEGIN:VEVENT
DTSTART;TZID=America/Chicago:20221115T150000
DTEND;TZID=America/Chicago:20221115T180000
DTSTAMP:20260424T194005
CREATED:20220802T034219Z
LAST-MODIFIED:20220906T025054Z
UID:10005124-1668524400-1668535200@tuscaloosaspecials.com
SUMMARY:Happy Hour @ Glory Bound
DESCRIPTION:1/2 off all drinks and beer. \nExcludes all the time deals and pitchers.
URL:https://tuscaloosaspecials.com/event/happy-hour-glory-bound/2022-11-15/
LOCATION:Glory Bound\, 1301 University Blvd\, Tuscaloosa\, AL\, 35401\, United States
CATEGORIES:Drink
END:VEVENT
END:VCALENDAR