BEGIN:VCALENDAR
VERSION:2.0
PRODID:-//Tuscaloosa Specials - ECPv6.15.20//NONSGML v1.0//EN
CALSCALE:GREGORIAN
METHOD:PUBLISH
X-WR-CALNAME:Tuscaloosa Specials
X-ORIGINAL-URL:https://tuscaloosaspecials.com
X-WR-CALDESC:Events for Tuscaloosa Specials
REFRESH-INTERVAL;VALUE=DURATION:PT1H
X-Robots-Tag:noindex
X-PUBLISHED-TTL:PT1H
BEGIN:VTIMEZONE
TZID:America/Chicago
BEGIN:DAYLIGHT
TZOFFSETFROM:-0600
TZOFFSETTO:-0500
TZNAME:CDT
DTSTART:20230312T080000
END:DAYLIGHT
BEGIN:STANDARD
TZOFFSETFROM:-0500
TZOFFSETTO:-0600
TZNAME:CST
DTSTART:20231105T070000
END:STANDARD
BEGIN:DAYLIGHT
TZOFFSETFROM:-0600
TZOFFSETTO:-0500
TZNAME:CDT
DTSTART:20240310T080000
END:DAYLIGHT
BEGIN:STANDARD
TZOFFSETFROM:-0500
TZOFFSETTO:-0600
TZNAME:CST
DTSTART:20241103T070000
END:STANDARD
BEGIN:DAYLIGHT
TZOFFSETFROM:-0600
TZOFFSETTO:-0500
TZNAME:CDT
DTSTART:20250309T080000
END:DAYLIGHT
BEGIN:STANDARD
TZOFFSETFROM:-0500
TZOFFSETTO:-0600
TZNAME:CST
DTSTART:20251102T070000
END:STANDARD
END:VTIMEZONE
BEGIN:VEVENT
DTSTART;TZID=America/Chicago:20240110T160000
DTEND;TZID=America/Chicago:20240110T200000
DTSTAMP:20260425T061729
CREATED:20230121T040907Z
LAST-MODIFIED:20230121T040907Z
UID:10007804-1704902400-1704916800@tuscaloosaspecials.com
SUMMARY:Happy Hour @ Grey Lady
DESCRIPTION:$3 Domestics\, $3.50 Well Drinks
URL:https://tuscaloosaspecials.com/event/happy-hour-grey-lady/2024-01-10/
LOCATION:The Gray Lady\, 521 Greensboro Ave\, Tuscaloosa\, 35401
CATEGORIES:Drink
END:VEVENT
BEGIN:VEVENT
DTSTART;TZID=America/Chicago:20240110T150000
DTEND;TZID=America/Chicago:20240110T180000
DTSTAMP:20260425T061729
CREATED:20230121T012904Z
LAST-MODIFIED:20230121T012904Z
UID:10007338-1704898800-1704909600@tuscaloosaspecials.com
SUMMARY:Happy Hour @ Wheelhouse Sports Pub
DESCRIPTION:$5 Double Wells\, $3 Fireball\, $3 Baby Bomb\, $8 Bud Light Pitchers\, $2 Bottles (Domestics\, Red Stripe\, PBR Tallboys)\, $2 Pints (Bud Light\, Michelob Ultra\, Yeungling)
URL:https://tuscaloosaspecials.com/event/happy-hour-wheelhouse-sports-pub/2024-01-10/
LOCATION:Wheelhouse Sports Pub\, 2326 4th St\, Tuscaloosa\, AL\, 35401\, United States
CATEGORIES:Drink
END:VEVENT
BEGIN:VEVENT
DTSTART;TZID=America/Chicago:20240110T150000
DTEND;TZID=America/Chicago:20240110T180000
DTSTAMP:20260425T061729
CREATED:20220802T034219Z
LAST-MODIFIED:20220906T025054Z
UID:10005365-1704898800-1704909600@tuscaloosaspecials.com
SUMMARY:Happy Hour @ Glory Bound
DESCRIPTION:1/2 off all drinks and beer. \nExcludes all the time deals and pitchers.
URL:https://tuscaloosaspecials.com/event/happy-hour-glory-bound/2024-01-10/
LOCATION:Glory Bound\, 1301 University Blvd\, Tuscaloosa\, AL\, 35401\, United States
CATEGORIES:Drink
END:VEVENT
BEGIN:VEVENT
DTSTART;TZID=America/Chicago:20240110T140000
DTEND;TZID=America/Chicago:20240110T180000
DTSTAMP:20260425T061729
CREATED:20230121T011504Z
LAST-MODIFIED:20230121T011928Z
UID:10006714-1704895200-1704909600@tuscaloosaspecials.com
SUMMARY:Happy Hour @ Central Mesa
DESCRIPTION:$6 classic margaritas\, $2 off infused margaritas\, $3 domestic beers\, $4 mexican beers\, 1/2 off wine bottles\, $11 dip trio\, $10 frozen avocado margarita
URL:https://tuscaloosaspecials.com/event/happy-hour-central-mesa/2024-01-10/
LOCATION:Central Mesa\, 519 Greensboro Ave\, Tuscaloosa\, 35401
CATEGORIES:Drink,Food
END:VEVENT
BEGIN:VEVENT
DTSTART;VALUE=DATE:20240110
DTEND;VALUE=DATE:20240112
DTSTAMP:20260425T061729
CREATED:20230122T045719Z
LAST-MODIFIED:20230122T045719Z
UID:10007914-1704855600-1704941999@tuscaloosaspecials.com
SUMMARY:Uptown Wednesday @ Chuck's Fish
DESCRIPTION:1/2 off Uptown Shrimp\, $20 wine bottles
URL:https://tuscaloosaspecials.com/event/uptown-wednesday-chucks-fish/2024-01-10/
LOCATION:Chuck’s Fish\, 508 Greensboro Ave\, Tuscaloosa\, AL\, 35401\, United States
CATEGORIES:Drink,Food
END:VEVENT
BEGIN:VEVENT
DTSTART;VALUE=DATE:20240110
DTEND;VALUE=DATE:20240112
DTSTAMP:20260425T061729
CREATED:20230121T012538Z
LAST-MODIFIED:20230121T012538Z
UID:10007032-1704855600-1704941999@tuscaloosaspecials.com
SUMMARY:Wednesdays @ Wheelhouse Sports Pub
DESCRIPTION:$6 doubles\, $3 pints
URL:https://tuscaloosaspecials.com/event/wednesdays-wheelhouse-sports-pub/2024-01-10/
LOCATION:Wheelhouse Sports Pub\, 2326 4th St\, Tuscaloosa\, AL\, 35401\, United States
CATEGORIES:Drink
END:VEVENT
BEGIN:VEVENT
DTSTART;VALUE=DATE:20240110
DTEND;VALUE=DATE:20240112
DTSTAMP:20260425T061729
CREATED:20220902T022106Z
LAST-MODIFIED:20230121T014443Z
UID:10005600-1704855600-1704941999@tuscaloosaspecials.com
SUMMARY:Wednesdays @ Buffalo Phil's
DESCRIPTION:$2 Seltzers\n$2 Happy Hour Bottles\n$4 Jagerboms & Vegasbombs
URL:https://tuscaloosaspecials.com/event/wednesdays-buffalo-phils/2024-01-10/
LOCATION:Buffalo Phil’s\, 1149 University Blvd\, Tuscaloosa\, AL\, 35401\, United States
CATEGORIES:Drink
END:VEVENT
BEGIN:VEVENT
DTSTART;VALUE=DATE:20240110
DTEND;VALUE=DATE:20240112
DTSTAMP:20260425T061729
CREATED:20220831T034000Z
LAST-MODIFIED:20221020T015213Z
UID:10004984-1704855600-1704941999@tuscaloosaspecials.com
SUMMARY:$7 Salads @ Glory Bound
DESCRIPTION:
URL:https://tuscaloosaspecials.com/event/6-salads-glory-bound/2024-01-10/
LOCATION:Glory Bound\, 1301 University Blvd\, Tuscaloosa\, AL\, 35401\, United States
CATEGORIES:Food
END:VEVENT
BEGIN:VEVENT
DTSTART;VALUE=DATE:20240110
DTEND;VALUE=DATE:20240112
DTSTAMP:20260425T061729
CREATED:20220804T031948Z
LAST-MODIFIED:20221117T032655Z
UID:10006460-1704855600-1704941999@tuscaloosaspecials.com
SUMMARY:$4 Bushwackers @ Moe's Original BBQ
DESCRIPTION:
URL:https://tuscaloosaspecials.com/event/4-bushwackers-moes-original-bbq/2024-01-10/
LOCATION:Moe’s Original BBQ\, 2101 University Blvd\, Tuscaloosa\, AL\, 35401\, United States
CATEGORIES:Drink
END:VEVENT
BEGIN:VEVENT
DTSTART;VALUE=DATE:20240110
DTEND;VALUE=DATE:20240112
DTSTAMP:20260425T061729
CREATED:20220803T224911Z
LAST-MODIFIED:20220902T225201Z
UID:10006261-1704855600-1704941999@tuscaloosaspecials.com
SUMMARY:$15 Dragon Berry Mojito Pitchers @ World of Beer
DESCRIPTION:
URL:https://tuscaloosaspecials.com/event/15-dragon-berry-mojito-pitchers-world-of-beer/2024-01-10/
LOCATION:World of Beer\, 2107 University Blvd\, Tuscaloosa\, AL\, 35401\, United States
CATEGORIES:Drink
END:VEVENT
BEGIN:VEVENT
DTSTART;TZID=America/Chicago:20240109T193000
DTEND;TZID=America/Chicago:20240109T220000
DTSTAMP:20260425T061729
CREATED:20230129T023705Z
LAST-MODIFIED:20230129T023751Z
UID:10008085-1704828600-1704837600@tuscaloosaspecials.com
SUMMARY:Backstage Comics @ Mugshots
DESCRIPTION:Signups @ 7:30 pm; Mic @ 8:00 pm
URL:https://tuscaloosaspecials.com/event/backstage-comics-mugshots/2024-01-09/
LOCATION:Mugshots Grill and Bar\, 511 Greensboro Ave\, Tuscaloosa\, AL\, 35401\, United States
CATEGORIES:Entertainment
END:VEVENT
BEGIN:VEVENT
DTSTART;TZID=America/Chicago:20240109T190000
DTEND;TZID=America/Chicago:20240109T230000
DTSTAMP:20260425T061729
CREATED:20230121T013135Z
LAST-MODIFIED:20230121T013135Z
UID:10007446-1704826800-1704841200@tuscaloosaspecials.com
SUMMARY:Poker @ Wheelhouse Sports Pub
DESCRIPTION:
URL:https://tuscaloosaspecials.com/event/poker-wheelhouse-sports-pub/2024-01-09/
LOCATION:Wheelhouse Sports Pub\, 2326 4th St\, Tuscaloosa\, AL\, 35401\, United States
CATEGORIES:Entertainment
END:VEVENT
BEGIN:VEVENT
DTSTART;TZID=America/Chicago:20240109T160000
DTEND;TZID=America/Chicago:20240109T200000
DTSTAMP:20260425T061729
CREATED:20230121T040907Z
LAST-MODIFIED:20230121T040907Z
UID:10007803-1704816000-1704830400@tuscaloosaspecials.com
SUMMARY:Happy Hour @ Grey Lady
DESCRIPTION:$3 Domestics\, $3.50 Well Drinks
URL:https://tuscaloosaspecials.com/event/happy-hour-grey-lady/2024-01-09/
LOCATION:The Gray Lady\, 521 Greensboro Ave\, Tuscaloosa\, 35401
CATEGORIES:Drink
END:VEVENT
BEGIN:VEVENT
DTSTART;TZID=America/Chicago:20240109T150000
DTEND;TZID=America/Chicago:20240109T180000
DTSTAMP:20260425T061729
CREATED:20230121T012904Z
LAST-MODIFIED:20230121T012904Z
UID:10007337-1704812400-1704823200@tuscaloosaspecials.com
SUMMARY:Happy Hour @ Wheelhouse Sports Pub
DESCRIPTION:$5 Double Wells\, $3 Fireball\, $3 Baby Bomb\, $8 Bud Light Pitchers\, $2 Bottles (Domestics\, Red Stripe\, PBR Tallboys)\, $2 Pints (Bud Light\, Michelob Ultra\, Yeungling)
URL:https://tuscaloosaspecials.com/event/happy-hour-wheelhouse-sports-pub/2024-01-09/
LOCATION:Wheelhouse Sports Pub\, 2326 4th St\, Tuscaloosa\, AL\, 35401\, United States
CATEGORIES:Drink
END:VEVENT
BEGIN:VEVENT
DTSTART;TZID=America/Chicago:20240109T150000
DTEND;TZID=America/Chicago:20240109T180000
DTSTAMP:20260425T061729
CREATED:20220802T034219Z
LAST-MODIFIED:20220906T025054Z
UID:10005364-1704812400-1704823200@tuscaloosaspecials.com
SUMMARY:Happy Hour @ Glory Bound
DESCRIPTION:1/2 off all drinks and beer. \nExcludes all the time deals and pitchers.
URL:https://tuscaloosaspecials.com/event/happy-hour-glory-bound/2024-01-09/
LOCATION:Glory Bound\, 1301 University Blvd\, Tuscaloosa\, AL\, 35401\, United States
CATEGORIES:Drink
END:VEVENT
BEGIN:VEVENT
DTSTART;TZID=America/Chicago:20240109T140000
DTEND;TZID=America/Chicago:20240109T180000
DTSTAMP:20260425T061729
CREATED:20230121T011504Z
LAST-MODIFIED:20230121T011928Z
UID:10006713-1704808800-1704823200@tuscaloosaspecials.com
SUMMARY:Happy Hour @ Central Mesa
DESCRIPTION:$6 classic margaritas\, $2 off infused margaritas\, $3 domestic beers\, $4 mexican beers\, 1/2 off wine bottles\, $11 dip trio\, $10 frozen avocado margarita
URL:https://tuscaloosaspecials.com/event/happy-hour-central-mesa/2024-01-09/
LOCATION:Central Mesa\, 519 Greensboro Ave\, Tuscaloosa\, 35401
CATEGORIES:Drink,Food
END:VEVENT
BEGIN:VEVENT
DTSTART;TZID=America/Chicago:20240109T080000
DTEND;TZID=America/Chicago:20240109T170000
DTSTAMP:20260425T061729
CREATED:20230121T012456Z
LAST-MODIFIED:20230121T012456Z
UID:10006980-1704787200-1704819600@tuscaloosaspecials.com
SUMMARY:Tuesdays @ Wheelhouse Sports Pub
DESCRIPTION:$6 doubles\, $8 pitchers\, $15 pizza + pitcher
URL:https://tuscaloosaspecials.com/event/tuesdays-wheelhouse-sports-pub/2024-01-09/
LOCATION:World of Beer\, 2107 University Blvd\, Tuscaloosa\, AL\, 35401\, United States
CATEGORIES:Drink,Food
END:VEVENT
BEGIN:VEVENT
DTSTART;VALUE=DATE:20240109
DTEND;VALUE=DATE:20240111
DTSTAMP:20260425T061729
CREATED:20230822T233625Z
LAST-MODIFIED:20230822T233625Z
UID:10004907-1704769200-1704855599@tuscaloosaspecials.com
SUMMARY:$7 Gyros @ Glory Bound
DESCRIPTION:
URL:https://tuscaloosaspecials.com/event/7-gyros-glory-bound/2024-01-09/
LOCATION:Glory Bound\, 1301 University Blvd\, Tuscaloosa\, AL\, 35401\, United States
CATEGORIES:Food
END:VEVENT
BEGIN:VEVENT
DTSTART;VALUE=DATE:20240109
DTEND;VALUE=DATE:20240111
DTSTAMP:20260425T061729
CREATED:20230122T045512Z
LAST-MODIFIED:20230122T045512Z
UID:10007862-1704769200-1704855599@tuscaloosaspecials.com
SUMMARY:Ladies Night @ Chuck's Fish
DESCRIPTION:1/2 off domesticated beer\, 1/2 off select cocktails\, 1/2 off well liquor
URL:https://tuscaloosaspecials.com/event/ladies-night-chucks-fish/2024-01-09/
LOCATION:Chuck’s Fish\, 508 Greensboro Ave\, Tuscaloosa\, AL\, 35401\, United States
CATEGORIES:Drink
END:VEVENT
BEGIN:VEVENT
DTSTART;VALUE=DATE:20240109
DTEND;VALUE=DATE:20240111
DTSTAMP:20260425T061729
CREATED:20230121T011627Z
LAST-MODIFIED:20230121T011847Z
UID:10006772-1704769200-1704855599@tuscaloosaspecials.com
SUMMARY:Taco Tuesday @ Central Mesa
DESCRIPTION:$3 street tacos\, $4 Mexican Lager
URL:https://tuscaloosaspecials.com/event/taco-tuesday-central-mesa/2024-01-09/
LOCATION:Central Mesa\, 519 Greensboro Ave\, Tuscaloosa\, 35401
CATEGORIES:Drink,Food
END:VEVENT
BEGIN:VEVENT
DTSTART;VALUE=DATE:20240109
DTEND;VALUE=DATE:20240111
DTSTAMP:20260425T061729
CREATED:20220902T021928Z
LAST-MODIFIED:20220902T230619Z
UID:10005522-1704769200-1704855599@tuscaloosaspecials.com
SUMMARY:$5 Domestic Pitchers @ Buffalo Phil's
DESCRIPTION:
URL:https://tuscaloosaspecials.com/event/5-domestic-pitchers-buffalo-phils/2024-01-09/
LOCATION:Buffalo Phil’s\, 1149 University Blvd\, Tuscaloosa\, AL\, 35401\, United States
CATEGORIES:Drink
END:VEVENT
BEGIN:VEVENT
DTSTART;VALUE=DATE:20240109
DTEND;VALUE=DATE:20240111
DTSTAMP:20260425T061729
CREATED:20220802T224635Z
LAST-MODIFIED:20220902T230251Z
UID:10006184-1704769200-1704855599@tuscaloosaspecials.com
SUMMARY:Taco Tuesday & Margaritas @ World of Beer
DESCRIPTION:$2.50 (beef or blackened chicken) or $3.50 (shrimp or crispy chicken) Tacos\, $15 Margarita Pitchers
URL:https://tuscaloosaspecials.com/event/tuesday-specials-world-of-beer/2024-01-09/
LOCATION:World of Beer\, 2107 University Blvd\, Tuscaloosa\, AL\, 35401\, United States
CATEGORIES:Drink,Food
END:VEVENT
BEGIN:VEVENT
DTSTART;TZID=America/Chicago:20240108T220000
DTEND;TZID=America/Chicago:20240109T020000
DTSTAMP:20260425T061729
CREATED:20220802T021917Z
LAST-MODIFIED:20220906T024956Z
UID:10004737-1704751200-1704765600@tuscaloosaspecials.com
SUMMARY:Bingo @ Moe's Original BBQ
DESCRIPTION:$4 Angry Orchard \n$3 Twisted Tea \n$3 WhiteClaw \n$3 Fireball \n$2 Wine
URL:https://tuscaloosaspecials.com/event/bingo-moes-original-bbq/2024-01-08/
LOCATION:Moe’s Original BBQ\, 2101 University Blvd\, Tuscaloosa\, AL\, 35401\, United States
CATEGORIES:Drink,Entertainment
END:VEVENT
BEGIN:VEVENT
DTSTART;TZID=America/Chicago:20240108T193000
DTEND;TZID=America/Chicago:20240108T210000
DTSTAMP:20260425T061729
CREATED:20220831T021232Z
LAST-MODIFIED:20220906T025247Z
UID:10004660-1704742200-1704747600@tuscaloosaspecials.com
SUMMARY:75¢ Wings @ Moe's Original BBQ
DESCRIPTION:
URL:https://tuscaloosaspecials.com/event/75-cent-wings-moes-original-bbq/2024-01-08/
LOCATION:Moe’s Original BBQ\, 2101 University Blvd\, Tuscaloosa\, AL\, 35401\, United States
CATEGORIES:Food
END:VEVENT
BEGIN:VEVENT
DTSTART;TZID=America/Chicago:20240108T190000
DTEND;TZID=America/Chicago:20240108T230000
DTSTAMP:20260425T061729
CREATED:20230121T013225Z
LAST-MODIFIED:20230121T013225Z
UID:10007550-1704740400-1704754800@tuscaloosaspecials.com
SUMMARY:Pool Tournament @ Wheelhouse Sports Pub
DESCRIPTION:
URL:https://tuscaloosaspecials.com/event/pool-tournament-wheelhouse-sports-pub/2024-01-08/
LOCATION:Wheelhouse Sports Pub\, 2326 4th St\, Tuscaloosa\, AL\, 35401\, United States
CATEGORIES:Entertainment
END:VEVENT
BEGIN:VEVENT
DTSTART;TZID=America/Chicago:20240108T160000
DTEND;TZID=America/Chicago:20240108T200000
DTSTAMP:20260425T061729
CREATED:20230121T040907Z
LAST-MODIFIED:20230121T040907Z
UID:10007802-1704729600-1704744000@tuscaloosaspecials.com
SUMMARY:Happy Hour @ Grey Lady
DESCRIPTION:$3 Domestics\, $3.50 Well Drinks
URL:https://tuscaloosaspecials.com/event/happy-hour-grey-lady/2024-01-08/
LOCATION:The Gray Lady\, 521 Greensboro Ave\, Tuscaloosa\, 35401
CATEGORIES:Drink
END:VEVENT
BEGIN:VEVENT
DTSTART;TZID=America/Chicago:20240108T150000
DTEND;TZID=America/Chicago:20240108T180000
DTSTAMP:20260425T061729
CREATED:20230121T012904Z
LAST-MODIFIED:20230121T012904Z
UID:10007336-1704726000-1704736800@tuscaloosaspecials.com
SUMMARY:Happy Hour @ Wheelhouse Sports Pub
DESCRIPTION:$5 Double Wells\, $3 Fireball\, $3 Baby Bomb\, $8 Bud Light Pitchers\, $2 Bottles (Domestics\, Red Stripe\, PBR Tallboys)\, $2 Pints (Bud Light\, Michelob Ultra\, Yeungling)
URL:https://tuscaloosaspecials.com/event/happy-hour-wheelhouse-sports-pub/2024-01-08/
LOCATION:Wheelhouse Sports Pub\, 2326 4th St\, Tuscaloosa\, AL\, 35401\, United States
CATEGORIES:Drink
END:VEVENT
BEGIN:VEVENT
DTSTART;TZID=America/Chicago:20240108T150000
DTEND;TZID=America/Chicago:20240108T180000
DTSTAMP:20260425T061729
CREATED:20220802T034219Z
LAST-MODIFIED:20220906T025054Z
UID:10005363-1704726000-1704736800@tuscaloosaspecials.com
SUMMARY:Happy Hour @ Glory Bound
DESCRIPTION:1/2 off all drinks and beer. \nExcludes all the time deals and pitchers.
URL:https://tuscaloosaspecials.com/event/happy-hour-glory-bound/2024-01-08/
LOCATION:Glory Bound\, 1301 University Blvd\, Tuscaloosa\, AL\, 35401\, United States
CATEGORIES:Drink
END:VEVENT
BEGIN:VEVENT
DTSTART;TZID=America/Chicago:20240108T140000
DTEND;TZID=America/Chicago:20240108T180000
DTSTAMP:20260425T061729
CREATED:20230121T011504Z
LAST-MODIFIED:20230121T011928Z
UID:10006712-1704722400-1704736800@tuscaloosaspecials.com
SUMMARY:Happy Hour @ Central Mesa
DESCRIPTION:$6 classic margaritas\, $2 off infused margaritas\, $3 domestic beers\, $4 mexican beers\, 1/2 off wine bottles\, $11 dip trio\, $10 frozen avocado margarita
URL:https://tuscaloosaspecials.com/event/happy-hour-central-mesa/2024-01-08/
LOCATION:Central Mesa\, 519 Greensboro Ave\, Tuscaloosa\, 35401
CATEGORIES:Drink,Food
END:VEVENT
BEGIN:VEVENT
DTSTART;VALUE=DATE:20240108
DTEND;VALUE=DATE:20240110
DTSTAMP:20260425T061729
CREATED:20230807T194638Z
LAST-MODIFIED:20230807T194639Z
UID:10004830-1704682800-1704769199@tuscaloosaspecials.com
SUMMARY:$7.99 Moe Monday Deal @ Moe's Southwest Grill
DESCRIPTION:Deal requires app.
URL:https://tuscaloosaspecials.com/event/7-99-moe-monday-deal-moes-southwest-grill/2024-01-08/
LOCATION:Moe’s Southwest Grill\, 1130 University Blvd\, Tuscaloosa\, AL\, 35401\, United States
CATEGORIES:Food
END:VEVENT
END:VCALENDAR