BEGIN:VCALENDAR
VERSION:2.0
PRODID:-//Tuscaloosa Specials - ECPv6.15.20//NONSGML v1.0//EN
CALSCALE:GREGORIAN
METHOD:PUBLISH
X-WR-CALNAME:Tuscaloosa Specials
X-ORIGINAL-URL:https://tuscaloosaspecials.com
X-WR-CALDESC:Events for Tuscaloosa Specials
REFRESH-INTERVAL;VALUE=DURATION:PT1H
X-Robots-Tag:noindex
X-PUBLISHED-TTL:PT1H
BEGIN:VTIMEZONE
TZID:America/Chicago
BEGIN:DAYLIGHT
TZOFFSETFROM:-0600
TZOFFSETTO:-0500
TZNAME:CDT
DTSTART:20220313T080000
END:DAYLIGHT
BEGIN:STANDARD
TZOFFSETFROM:-0500
TZOFFSETTO:-0600
TZNAME:CST
DTSTART:20221106T070000
END:STANDARD
BEGIN:DAYLIGHT
TZOFFSETFROM:-0600
TZOFFSETTO:-0500
TZNAME:CDT
DTSTART:20230312T080000
END:DAYLIGHT
BEGIN:STANDARD
TZOFFSETFROM:-0500
TZOFFSETTO:-0600
TZNAME:CST
DTSTART:20231105T070000
END:STANDARD
BEGIN:DAYLIGHT
TZOFFSETFROM:-0600
TZOFFSETTO:-0500
TZNAME:CDT
DTSTART:20240310T080000
END:DAYLIGHT
BEGIN:STANDARD
TZOFFSETFROM:-0500
TZOFFSETTO:-0600
TZNAME:CST
DTSTART:20241103T070000
END:STANDARD
BEGIN:DAYLIGHT
TZOFFSETFROM:-0600
TZOFFSETTO:-0500
TZNAME:CDT
DTSTART:20250309T080000
END:DAYLIGHT
BEGIN:STANDARD
TZOFFSETFROM:-0500
TZOFFSETTO:-0600
TZNAME:CST
DTSTART:20251102T070000
END:STANDARD
END:VTIMEZONE
BEGIN:VEVENT
DTSTART;VALUE=DATE:20240117
DTEND;VALUE=DATE:20240119
DTSTAMP:20260423T040937
CREATED:20220804T031948Z
LAST-MODIFIED:20221117T032655Z
UID:10006461-1705460400-1705546799@tuscaloosaspecials.com
SUMMARY:$4 Bushwackers @ Moe's Original BBQ
DESCRIPTION:
URL:https://tuscaloosaspecials.com/event/4-bushwackers-moes-original-bbq/2024-01-17/
LOCATION:Moe’s Original BBQ\, 2101 University Blvd\, Tuscaloosa\, AL\, 35401\, United States
CATEGORIES:Drink
END:VEVENT
BEGIN:VEVENT
DTSTART;TZID=America/Chicago:20240115T220000
DTEND;TZID=America/Chicago:20240116T020000
DTSTAMP:20260423T040937
CREATED:20220802T021917Z
LAST-MODIFIED:20220906T024956Z
UID:10004738-1705356000-1705370400@tuscaloosaspecials.com
SUMMARY:Bingo @ Moe's Original BBQ
DESCRIPTION:$4 Angry Orchard \n$3 Twisted Tea \n$3 WhiteClaw \n$3 Fireball \n$2 Wine
URL:https://tuscaloosaspecials.com/event/bingo-moes-original-bbq/2024-01-15/
LOCATION:Moe’s Original BBQ\, 2101 University Blvd\, Tuscaloosa\, AL\, 35401\, United States
CATEGORIES:Drink,Entertainment
END:VEVENT
BEGIN:VEVENT
DTSTART;TZID=America/Chicago:20240115T193000
DTEND;TZID=America/Chicago:20240115T210000
DTSTAMP:20260423T040937
CREATED:20220831T021232Z
LAST-MODIFIED:20220906T025247Z
UID:10004661-1705347000-1705352400@tuscaloosaspecials.com
SUMMARY:75¢ Wings @ Moe's Original BBQ
DESCRIPTION:
URL:https://tuscaloosaspecials.com/event/75-cent-wings-moes-original-bbq/2024-01-15/
LOCATION:Moe’s Original BBQ\, 2101 University Blvd\, Tuscaloosa\, AL\, 35401\, United States
CATEGORIES:Food
END:VEVENT
BEGIN:VEVENT
DTSTART;VALUE=DATE:20240110
DTEND;VALUE=DATE:20240112
DTSTAMP:20260423T040937
CREATED:20220804T031948Z
LAST-MODIFIED:20221117T032655Z
UID:10006460-1704855600-1704941999@tuscaloosaspecials.com
SUMMARY:$4 Bushwackers @ Moe's Original BBQ
DESCRIPTION:
URL:https://tuscaloosaspecials.com/event/4-bushwackers-moes-original-bbq/2024-01-10/
LOCATION:Moe’s Original BBQ\, 2101 University Blvd\, Tuscaloosa\, AL\, 35401\, United States
CATEGORIES:Drink
END:VEVENT
BEGIN:VEVENT
DTSTART;TZID=America/Chicago:20240108T220000
DTEND;TZID=America/Chicago:20240109T020000
DTSTAMP:20260423T040937
CREATED:20220802T021917Z
LAST-MODIFIED:20220906T024956Z
UID:10004737-1704751200-1704765600@tuscaloosaspecials.com
SUMMARY:Bingo @ Moe's Original BBQ
DESCRIPTION:$4 Angry Orchard \n$3 Twisted Tea \n$3 WhiteClaw \n$3 Fireball \n$2 Wine
URL:https://tuscaloosaspecials.com/event/bingo-moes-original-bbq/2024-01-08/
LOCATION:Moe’s Original BBQ\, 2101 University Blvd\, Tuscaloosa\, AL\, 35401\, United States
CATEGORIES:Drink,Entertainment
END:VEVENT
BEGIN:VEVENT
DTSTART;TZID=America/Chicago:20240108T193000
DTEND;TZID=America/Chicago:20240108T210000
DTSTAMP:20260423T040938
CREATED:20220831T021232Z
LAST-MODIFIED:20220906T025247Z
UID:10004660-1704742200-1704747600@tuscaloosaspecials.com
SUMMARY:75¢ Wings @ Moe's Original BBQ
DESCRIPTION:
URL:https://tuscaloosaspecials.com/event/75-cent-wings-moes-original-bbq/2024-01-08/
LOCATION:Moe’s Original BBQ\, 2101 University Blvd\, Tuscaloosa\, AL\, 35401\, United States
CATEGORIES:Food
END:VEVENT
BEGIN:VEVENT
DTSTART;VALUE=DATE:20240103
DTEND;VALUE=DATE:20240105
DTSTAMP:20260423T040938
CREATED:20220804T031948Z
LAST-MODIFIED:20221117T032655Z
UID:10006459-1704250800-1704337199@tuscaloosaspecials.com
SUMMARY:$4 Bushwackers @ Moe's Original BBQ
DESCRIPTION:
URL:https://tuscaloosaspecials.com/event/4-bushwackers-moes-original-bbq/2024-01-03/
LOCATION:Moe’s Original BBQ\, 2101 University Blvd\, Tuscaloosa\, AL\, 35401\, United States
CATEGORIES:Drink
END:VEVENT
BEGIN:VEVENT
DTSTART;TZID=America/Chicago:20240101T220000
DTEND;TZID=America/Chicago:20240102T020000
DTSTAMP:20260423T040938
CREATED:20220802T021917Z
LAST-MODIFIED:20220906T024956Z
UID:10004736-1704146400-1704160800@tuscaloosaspecials.com
SUMMARY:Bingo @ Moe's Original BBQ
DESCRIPTION:$4 Angry Orchard \n$3 Twisted Tea \n$3 WhiteClaw \n$3 Fireball \n$2 Wine
URL:https://tuscaloosaspecials.com/event/bingo-moes-original-bbq/2024-01-01/
LOCATION:Moe’s Original BBQ\, 2101 University Blvd\, Tuscaloosa\, AL\, 35401\, United States
CATEGORIES:Drink,Entertainment
END:VEVENT
BEGIN:VEVENT
DTSTART;TZID=America/Chicago:20240101T193000
DTEND;TZID=America/Chicago:20240101T210000
DTSTAMP:20260423T040938
CREATED:20220831T021232Z
LAST-MODIFIED:20220906T025247Z
UID:10004659-1704137400-1704142800@tuscaloosaspecials.com
SUMMARY:75¢ Wings @ Moe's Original BBQ
DESCRIPTION:
URL:https://tuscaloosaspecials.com/event/75-cent-wings-moes-original-bbq/2024-01-01/
LOCATION:Moe’s Original BBQ\, 2101 University Blvd\, Tuscaloosa\, AL\, 35401\, United States
CATEGORIES:Food
END:VEVENT
BEGIN:VEVENT
DTSTART;VALUE=DATE:20231227
DTEND;VALUE=DATE:20231229
DTSTAMP:20260423T040938
CREATED:20220804T031948Z
LAST-MODIFIED:20221117T032655Z
UID:10006458-1703646000-1703732399@tuscaloosaspecials.com
SUMMARY:$4 Bushwackers @ Moe's Original BBQ
DESCRIPTION:
URL:https://tuscaloosaspecials.com/event/4-bushwackers-moes-original-bbq/2023-12-27/
LOCATION:Moe’s Original BBQ\, 2101 University Blvd\, Tuscaloosa\, AL\, 35401\, United States
CATEGORIES:Drink
END:VEVENT
BEGIN:VEVENT
DTSTART;TZID=America/Chicago:20231225T220000
DTEND;TZID=America/Chicago:20231226T020000
DTSTAMP:20260423T040938
CREATED:20220802T021917Z
LAST-MODIFIED:20220906T024956Z
UID:10004735-1703541600-1703556000@tuscaloosaspecials.com
SUMMARY:Bingo @ Moe's Original BBQ
DESCRIPTION:$4 Angry Orchard \n$3 Twisted Tea \n$3 WhiteClaw \n$3 Fireball \n$2 Wine
URL:https://tuscaloosaspecials.com/event/bingo-moes-original-bbq/2023-12-25/
LOCATION:Moe’s Original BBQ\, 2101 University Blvd\, Tuscaloosa\, AL\, 35401\, United States
CATEGORIES:Drink,Entertainment
END:VEVENT
BEGIN:VEVENT
DTSTART;TZID=America/Chicago:20231225T193000
DTEND;TZID=America/Chicago:20231225T210000
DTSTAMP:20260423T040938
CREATED:20220831T021232Z
LAST-MODIFIED:20220906T025247Z
UID:10004658-1703532600-1703538000@tuscaloosaspecials.com
SUMMARY:75¢ Wings @ Moe's Original BBQ
DESCRIPTION:
URL:https://tuscaloosaspecials.com/event/75-cent-wings-moes-original-bbq/2023-12-25/
LOCATION:Moe’s Original BBQ\, 2101 University Blvd\, Tuscaloosa\, AL\, 35401\, United States
CATEGORIES:Food
END:VEVENT
BEGIN:VEVENT
DTSTART;VALUE=DATE:20231220
DTEND;VALUE=DATE:20231222
DTSTAMP:20260423T040938
CREATED:20220804T031948Z
LAST-MODIFIED:20221117T032655Z
UID:10006457-1703041200-1703127599@tuscaloosaspecials.com
SUMMARY:$4 Bushwackers @ Moe's Original BBQ
DESCRIPTION:
URL:https://tuscaloosaspecials.com/event/4-bushwackers-moes-original-bbq/2023-12-20/
LOCATION:Moe’s Original BBQ\, 2101 University Blvd\, Tuscaloosa\, AL\, 35401\, United States
CATEGORIES:Drink
END:VEVENT
BEGIN:VEVENT
DTSTART;TZID=America/Chicago:20231218T220000
DTEND;TZID=America/Chicago:20231219T020000
DTSTAMP:20260423T040938
CREATED:20220802T021917Z
LAST-MODIFIED:20220906T024956Z
UID:10004734-1702936800-1702951200@tuscaloosaspecials.com
SUMMARY:Bingo @ Moe's Original BBQ
DESCRIPTION:$4 Angry Orchard \n$3 Twisted Tea \n$3 WhiteClaw \n$3 Fireball \n$2 Wine
URL:https://tuscaloosaspecials.com/event/bingo-moes-original-bbq/2023-12-18/
LOCATION:Moe’s Original BBQ\, 2101 University Blvd\, Tuscaloosa\, AL\, 35401\, United States
CATEGORIES:Drink,Entertainment
END:VEVENT
BEGIN:VEVENT
DTSTART;TZID=America/Chicago:20231218T193000
DTEND;TZID=America/Chicago:20231218T210000
DTSTAMP:20260423T040938
CREATED:20220831T021232Z
LAST-MODIFIED:20220906T025247Z
UID:10004657-1702927800-1702933200@tuscaloosaspecials.com
SUMMARY:75¢ Wings @ Moe's Original BBQ
DESCRIPTION:
URL:https://tuscaloosaspecials.com/event/75-cent-wings-moes-original-bbq/2023-12-18/
LOCATION:Moe’s Original BBQ\, 2101 University Blvd\, Tuscaloosa\, AL\, 35401\, United States
CATEGORIES:Food
END:VEVENT
BEGIN:VEVENT
DTSTART;VALUE=DATE:20231213
DTEND;VALUE=DATE:20231215
DTSTAMP:20260423T040938
CREATED:20220804T031948Z
LAST-MODIFIED:20221117T032655Z
UID:10006456-1702436400-1702522799@tuscaloosaspecials.com
SUMMARY:$4 Bushwackers @ Moe's Original BBQ
DESCRIPTION:
URL:https://tuscaloosaspecials.com/event/4-bushwackers-moes-original-bbq/2023-12-13/
LOCATION:Moe’s Original BBQ\, 2101 University Blvd\, Tuscaloosa\, AL\, 35401\, United States
CATEGORIES:Drink
END:VEVENT
BEGIN:VEVENT
DTSTART;TZID=America/Chicago:20231211T220000
DTEND;TZID=America/Chicago:20231212T020000
DTSTAMP:20260423T040938
CREATED:20220802T021917Z
LAST-MODIFIED:20220906T024956Z
UID:10004733-1702332000-1702346400@tuscaloosaspecials.com
SUMMARY:Bingo @ Moe's Original BBQ
DESCRIPTION:$4 Angry Orchard \n$3 Twisted Tea \n$3 WhiteClaw \n$3 Fireball \n$2 Wine
URL:https://tuscaloosaspecials.com/event/bingo-moes-original-bbq/2023-12-11/
LOCATION:Moe’s Original BBQ\, 2101 University Blvd\, Tuscaloosa\, AL\, 35401\, United States
CATEGORIES:Drink,Entertainment
END:VEVENT
BEGIN:VEVENT
DTSTART;TZID=America/Chicago:20231211T193000
DTEND;TZID=America/Chicago:20231211T210000
DTSTAMP:20260423T040938
CREATED:20220831T021232Z
LAST-MODIFIED:20220906T025247Z
UID:10004656-1702323000-1702328400@tuscaloosaspecials.com
SUMMARY:75¢ Wings @ Moe's Original BBQ
DESCRIPTION:
URL:https://tuscaloosaspecials.com/event/75-cent-wings-moes-original-bbq/2023-12-11/
LOCATION:Moe’s Original BBQ\, 2101 University Blvd\, Tuscaloosa\, AL\, 35401\, United States
CATEGORIES:Food
END:VEVENT
BEGIN:VEVENT
DTSTART;VALUE=DATE:20231206
DTEND;VALUE=DATE:20231208
DTSTAMP:20260423T040938
CREATED:20220804T031948Z
LAST-MODIFIED:20221117T032655Z
UID:10006455-1701831600-1701917999@tuscaloosaspecials.com
SUMMARY:$4 Bushwackers @ Moe's Original BBQ
DESCRIPTION:
URL:https://tuscaloosaspecials.com/event/4-bushwackers-moes-original-bbq/2023-12-06/
LOCATION:Moe’s Original BBQ\, 2101 University Blvd\, Tuscaloosa\, AL\, 35401\, United States
CATEGORIES:Drink
END:VEVENT
BEGIN:VEVENT
DTSTART;TZID=America/Chicago:20231204T220000
DTEND;TZID=America/Chicago:20231205T020000
DTSTAMP:20260423T040938
CREATED:20220802T021917Z
LAST-MODIFIED:20220906T024956Z
UID:10004732-1701727200-1701741600@tuscaloosaspecials.com
SUMMARY:Bingo @ Moe's Original BBQ
DESCRIPTION:$4 Angry Orchard \n$3 Twisted Tea \n$3 WhiteClaw \n$3 Fireball \n$2 Wine
URL:https://tuscaloosaspecials.com/event/bingo-moes-original-bbq/2023-12-04/
LOCATION:Moe’s Original BBQ\, 2101 University Blvd\, Tuscaloosa\, AL\, 35401\, United States
CATEGORIES:Drink,Entertainment
END:VEVENT
BEGIN:VEVENT
DTSTART;TZID=America/Chicago:20231204T193000
DTEND;TZID=America/Chicago:20231204T210000
DTSTAMP:20260423T040938
CREATED:20220831T021232Z
LAST-MODIFIED:20220906T025247Z
UID:10004655-1701718200-1701723600@tuscaloosaspecials.com
SUMMARY:75¢ Wings @ Moe's Original BBQ
DESCRIPTION:
URL:https://tuscaloosaspecials.com/event/75-cent-wings-moes-original-bbq/2023-12-04/
LOCATION:Moe’s Original BBQ\, 2101 University Blvd\, Tuscaloosa\, AL\, 35401\, United States
CATEGORIES:Food
END:VEVENT
BEGIN:VEVENT
DTSTART;VALUE=DATE:20231129
DTEND;VALUE=DATE:20231201
DTSTAMP:20260423T040938
CREATED:20220804T031948Z
LAST-MODIFIED:20221117T032655Z
UID:10006454-1701226800-1701313199@tuscaloosaspecials.com
SUMMARY:$4 Bushwackers @ Moe's Original BBQ
DESCRIPTION:
URL:https://tuscaloosaspecials.com/event/4-bushwackers-moes-original-bbq/2023-11-29/
LOCATION:Moe’s Original BBQ\, 2101 University Blvd\, Tuscaloosa\, AL\, 35401\, United States
CATEGORIES:Drink
END:VEVENT
BEGIN:VEVENT
DTSTART;TZID=America/Chicago:20231127T220000
DTEND;TZID=America/Chicago:20231128T020000
DTSTAMP:20260423T040938
CREATED:20220802T021917Z
LAST-MODIFIED:20220906T024956Z
UID:10004731-1701122400-1701136800@tuscaloosaspecials.com
SUMMARY:Bingo @ Moe's Original BBQ
DESCRIPTION:$4 Angry Orchard \n$3 Twisted Tea \n$3 WhiteClaw \n$3 Fireball \n$2 Wine
URL:https://tuscaloosaspecials.com/event/bingo-moes-original-bbq/2023-11-27/
LOCATION:Moe’s Original BBQ\, 2101 University Blvd\, Tuscaloosa\, AL\, 35401\, United States
CATEGORIES:Drink,Entertainment
END:VEVENT
BEGIN:VEVENT
DTSTART;TZID=America/Chicago:20231127T193000
DTEND;TZID=America/Chicago:20231127T210000
DTSTAMP:20260423T040938
CREATED:20220831T021232Z
LAST-MODIFIED:20220906T025247Z
UID:10004654-1701113400-1701118800@tuscaloosaspecials.com
SUMMARY:75¢ Wings @ Moe's Original BBQ
DESCRIPTION:
URL:https://tuscaloosaspecials.com/event/75-cent-wings-moes-original-bbq/2023-11-27/
LOCATION:Moe’s Original BBQ\, 2101 University Blvd\, Tuscaloosa\, AL\, 35401\, United States
CATEGORIES:Food
END:VEVENT
BEGIN:VEVENT
DTSTART;VALUE=DATE:20231122
DTEND;VALUE=DATE:20231124
DTSTAMP:20260423T040938
CREATED:20220804T031948Z
LAST-MODIFIED:20221117T032655Z
UID:10006453-1700622000-1700708399@tuscaloosaspecials.com
SUMMARY:$4 Bushwackers @ Moe's Original BBQ
DESCRIPTION:
URL:https://tuscaloosaspecials.com/event/4-bushwackers-moes-original-bbq/2023-11-22/
LOCATION:Moe’s Original BBQ\, 2101 University Blvd\, Tuscaloosa\, AL\, 35401\, United States
CATEGORIES:Drink
END:VEVENT
BEGIN:VEVENT
DTSTART;TZID=America/Chicago:20231120T220000
DTEND;TZID=America/Chicago:20231121T020000
DTSTAMP:20260423T040938
CREATED:20220802T021917Z
LAST-MODIFIED:20220906T024956Z
UID:10004730-1700517600-1700532000@tuscaloosaspecials.com
SUMMARY:Bingo @ Moe's Original BBQ
DESCRIPTION:$4 Angry Orchard \n$3 Twisted Tea \n$3 WhiteClaw \n$3 Fireball \n$2 Wine
URL:https://tuscaloosaspecials.com/event/bingo-moes-original-bbq/2023-11-20/
LOCATION:Moe’s Original BBQ\, 2101 University Blvd\, Tuscaloosa\, AL\, 35401\, United States
CATEGORIES:Drink,Entertainment
END:VEVENT
BEGIN:VEVENT
DTSTART;TZID=America/Chicago:20231120T193000
DTEND;TZID=America/Chicago:20231120T210000
DTSTAMP:20260423T040938
CREATED:20220831T021232Z
LAST-MODIFIED:20220906T025247Z
UID:10004653-1700508600-1700514000@tuscaloosaspecials.com
SUMMARY:75¢ Wings @ Moe's Original BBQ
DESCRIPTION:
URL:https://tuscaloosaspecials.com/event/75-cent-wings-moes-original-bbq/2023-11-20/
LOCATION:Moe’s Original BBQ\, 2101 University Blvd\, Tuscaloosa\, AL\, 35401\, United States
CATEGORIES:Food
END:VEVENT
BEGIN:VEVENT
DTSTART;VALUE=DATE:20231115
DTEND;VALUE=DATE:20231117
DTSTAMP:20260423T040938
CREATED:20220804T031948Z
LAST-MODIFIED:20221117T032655Z
UID:10006452-1700017200-1700103599@tuscaloosaspecials.com
SUMMARY:$4 Bushwackers @ Moe's Original BBQ
DESCRIPTION:
URL:https://tuscaloosaspecials.com/event/4-bushwackers-moes-original-bbq/2023-11-15/
LOCATION:Moe’s Original BBQ\, 2101 University Blvd\, Tuscaloosa\, AL\, 35401\, United States
CATEGORIES:Drink
END:VEVENT
BEGIN:VEVENT
DTSTART;TZID=America/Chicago:20231113T220000
DTEND;TZID=America/Chicago:20231114T020000
DTSTAMP:20260423T040938
CREATED:20220802T021917Z
LAST-MODIFIED:20220906T024956Z
UID:10004729-1699912800-1699927200@tuscaloosaspecials.com
SUMMARY:Bingo @ Moe's Original BBQ
DESCRIPTION:$4 Angry Orchard \n$3 Twisted Tea \n$3 WhiteClaw \n$3 Fireball \n$2 Wine
URL:https://tuscaloosaspecials.com/event/bingo-moes-original-bbq/2023-11-13/
LOCATION:Moe’s Original BBQ\, 2101 University Blvd\, Tuscaloosa\, AL\, 35401\, United States
CATEGORIES:Drink,Entertainment
END:VEVENT
BEGIN:VEVENT
DTSTART;TZID=America/Chicago:20231113T193000
DTEND;TZID=America/Chicago:20231113T210000
DTSTAMP:20260423T040938
CREATED:20220831T021232Z
LAST-MODIFIED:20220906T025247Z
UID:10004652-1699903800-1699909200@tuscaloosaspecials.com
SUMMARY:75¢ Wings @ Moe's Original BBQ
DESCRIPTION:
URL:https://tuscaloosaspecials.com/event/75-cent-wings-moes-original-bbq/2023-11-13/
LOCATION:Moe’s Original BBQ\, 2101 University Blvd\, Tuscaloosa\, AL\, 35401\, United States
CATEGORIES:Food
END:VEVENT
END:VCALENDAR