BEGIN:VCALENDAR
VERSION:2.0
PRODID:-//Tuscaloosa Specials - ECPv6.15.20//NONSGML v1.0//EN
CALSCALE:GREGORIAN
METHOD:PUBLISH
X-ORIGINAL-URL:https://tuscaloosaspecials.com
X-WR-CALDESC:Events for Tuscaloosa Specials
REFRESH-INTERVAL;VALUE=DURATION:PT1H
X-Robots-Tag:noindex
X-PUBLISHED-TTL:PT1H
BEGIN:VTIMEZONE
TZID:America/Chicago
BEGIN:DAYLIGHT
TZOFFSETFROM:-0600
TZOFFSETTO:-0500
TZNAME:CDT
DTSTART:20220313T080000
END:DAYLIGHT
BEGIN:STANDARD
TZOFFSETFROM:-0500
TZOFFSETTO:-0600
TZNAME:CST
DTSTART:20221106T070000
END:STANDARD
BEGIN:DAYLIGHT
TZOFFSETFROM:-0600
TZOFFSETTO:-0500
TZNAME:CDT
DTSTART:20230312T080000
END:DAYLIGHT
BEGIN:STANDARD
TZOFFSETFROM:-0500
TZOFFSETTO:-0600
TZNAME:CST
DTSTART:20231105T070000
END:STANDARD
BEGIN:DAYLIGHT
TZOFFSETFROM:-0600
TZOFFSETTO:-0500
TZNAME:CDT
DTSTART:20240310T080000
END:DAYLIGHT
BEGIN:STANDARD
TZOFFSETFROM:-0500
TZOFFSETTO:-0600
TZNAME:CST
DTSTART:20241103T070000
END:STANDARD
BEGIN:DAYLIGHT
TZOFFSETFROM:-0600
TZOFFSETTO:-0500
TZNAME:CDT
DTSTART:20250309T080000
END:DAYLIGHT
BEGIN:STANDARD
TZOFFSETFROM:-0500
TZOFFSETTO:-0600
TZNAME:CST
DTSTART:20251102T070000
END:STANDARD
END:VTIMEZONE
BEGIN:VEVENT
DTSTART;TZID=America/Chicago:20240123T193000
DTEND;TZID=America/Chicago:20240123T220000
DTSTAMP:20260422T173121
CREATED:20230129T023705Z
LAST-MODIFIED:20230129T023751Z
UID:10008087-1706038200-1706047200@tuscaloosaspecials.com
SUMMARY:Backstage Comics @ Mugshots
DESCRIPTION:Signups @ 7:30 pm; Mic @ 8:00 pm
URL:https://tuscaloosaspecials.com/event/backstage-comics-mugshots/2024-01-23/
LOCATION:Mugshots Grill and Bar\, 511 Greensboro Ave\, Tuscaloosa\, AL\, 35401\, United States
CATEGORIES:Entertainment
END:VEVENT
BEGIN:VEVENT
DTSTART;TZID=America/Chicago:20240116T193000
DTEND;TZID=America/Chicago:20240116T220000
DTSTAMP:20260422T173121
CREATED:20230129T023705Z
LAST-MODIFIED:20230129T023751Z
UID:10008086-1705433400-1705442400@tuscaloosaspecials.com
SUMMARY:Backstage Comics @ Mugshots
DESCRIPTION:Signups @ 7:30 pm; Mic @ 8:00 pm
URL:https://tuscaloosaspecials.com/event/backstage-comics-mugshots/2024-01-16/
LOCATION:Mugshots Grill and Bar\, 511 Greensboro Ave\, Tuscaloosa\, AL\, 35401\, United States
CATEGORIES:Entertainment
END:VEVENT
BEGIN:VEVENT
DTSTART;TZID=America/Chicago:20240109T193000
DTEND;TZID=America/Chicago:20240109T220000
DTSTAMP:20260422T173121
CREATED:20230129T023705Z
LAST-MODIFIED:20230129T023751Z
UID:10008085-1704828600-1704837600@tuscaloosaspecials.com
SUMMARY:Backstage Comics @ Mugshots
DESCRIPTION:Signups @ 7:30 pm; Mic @ 8:00 pm
URL:https://tuscaloosaspecials.com/event/backstage-comics-mugshots/2024-01-09/
LOCATION:Mugshots Grill and Bar\, 511 Greensboro Ave\, Tuscaloosa\, AL\, 35401\, United States
CATEGORIES:Entertainment
END:VEVENT
BEGIN:VEVENT
DTSTART;TZID=America/Chicago:20240102T193000
DTEND;TZID=America/Chicago:20240102T220000
DTSTAMP:20260422T173121
CREATED:20230129T023705Z
LAST-MODIFIED:20230129T023751Z
UID:10008084-1704223800-1704232800@tuscaloosaspecials.com
SUMMARY:Backstage Comics @ Mugshots
DESCRIPTION:Signups @ 7:30 pm; Mic @ 8:00 pm
URL:https://tuscaloosaspecials.com/event/backstage-comics-mugshots/2024-01-02/
LOCATION:Mugshots Grill and Bar\, 511 Greensboro Ave\, Tuscaloosa\, AL\, 35401\, United States
CATEGORIES:Entertainment
END:VEVENT
BEGIN:VEVENT
DTSTART;TZID=America/Chicago:20231226T193000
DTEND;TZID=America/Chicago:20231226T220000
DTSTAMP:20260422T173121
CREATED:20230129T023705Z
LAST-MODIFIED:20230129T023751Z
UID:10008083-1703619000-1703628000@tuscaloosaspecials.com
SUMMARY:Backstage Comics @ Mugshots
DESCRIPTION:Signups @ 7:30 pm; Mic @ 8:00 pm
URL:https://tuscaloosaspecials.com/event/backstage-comics-mugshots/2023-12-26/
LOCATION:Mugshots Grill and Bar\, 511 Greensboro Ave\, Tuscaloosa\, AL\, 35401\, United States
CATEGORIES:Entertainment
END:VEVENT
BEGIN:VEVENT
DTSTART;TZID=America/Chicago:20231219T193000
DTEND;TZID=America/Chicago:20231219T220000
DTSTAMP:20260422T173121
CREATED:20230129T023705Z
LAST-MODIFIED:20230129T023751Z
UID:10008082-1703014200-1703023200@tuscaloosaspecials.com
SUMMARY:Backstage Comics @ Mugshots
DESCRIPTION:Signups @ 7:30 pm; Mic @ 8:00 pm
URL:https://tuscaloosaspecials.com/event/backstage-comics-mugshots/2023-12-19/
LOCATION:Mugshots Grill and Bar\, 511 Greensboro Ave\, Tuscaloosa\, AL\, 35401\, United States
CATEGORIES:Entertainment
END:VEVENT
BEGIN:VEVENT
DTSTART;TZID=America/Chicago:20231212T193000
DTEND;TZID=America/Chicago:20231212T220000
DTSTAMP:20260422T173121
CREATED:20230129T023705Z
LAST-MODIFIED:20230129T023751Z
UID:10008081-1702409400-1702418400@tuscaloosaspecials.com
SUMMARY:Backstage Comics @ Mugshots
DESCRIPTION:Signups @ 7:30 pm; Mic @ 8:00 pm
URL:https://tuscaloosaspecials.com/event/backstage-comics-mugshots/2023-12-12/
LOCATION:Mugshots Grill and Bar\, 511 Greensboro Ave\, Tuscaloosa\, AL\, 35401\, United States
CATEGORIES:Entertainment
END:VEVENT
BEGIN:VEVENT
DTSTART;TZID=America/Chicago:20231205T193000
DTEND;TZID=America/Chicago:20231205T220000
DTSTAMP:20260422T173121
CREATED:20230129T023705Z
LAST-MODIFIED:20230129T023751Z
UID:10008080-1701804600-1701813600@tuscaloosaspecials.com
SUMMARY:Backstage Comics @ Mugshots
DESCRIPTION:Signups @ 7:30 pm; Mic @ 8:00 pm
URL:https://tuscaloosaspecials.com/event/backstage-comics-mugshots/2023-12-05/
LOCATION:Mugshots Grill and Bar\, 511 Greensboro Ave\, Tuscaloosa\, AL\, 35401\, United States
CATEGORIES:Entertainment
END:VEVENT
BEGIN:VEVENT
DTSTART;TZID=America/Chicago:20231128T193000
DTEND;TZID=America/Chicago:20231128T220000
DTSTAMP:20260422T173121
CREATED:20230129T023705Z
LAST-MODIFIED:20230129T023751Z
UID:10008079-1701199800-1701208800@tuscaloosaspecials.com
SUMMARY:Backstage Comics @ Mugshots
DESCRIPTION:Signups @ 7:30 pm; Mic @ 8:00 pm
URL:https://tuscaloosaspecials.com/event/backstage-comics-mugshots/2023-11-28/
LOCATION:Mugshots Grill and Bar\, 511 Greensboro Ave\, Tuscaloosa\, AL\, 35401\, United States
CATEGORIES:Entertainment
END:VEVENT
BEGIN:VEVENT
DTSTART;TZID=America/Chicago:20231121T193000
DTEND;TZID=America/Chicago:20231121T220000
DTSTAMP:20260422T173121
CREATED:20230129T023705Z
LAST-MODIFIED:20230129T023751Z
UID:10008078-1700595000-1700604000@tuscaloosaspecials.com
SUMMARY:Backstage Comics @ Mugshots
DESCRIPTION:Signups @ 7:30 pm; Mic @ 8:00 pm
URL:https://tuscaloosaspecials.com/event/backstage-comics-mugshots/2023-11-21/
LOCATION:Mugshots Grill and Bar\, 511 Greensboro Ave\, Tuscaloosa\, AL\, 35401\, United States
CATEGORIES:Entertainment
END:VEVENT
BEGIN:VEVENT
DTSTART;TZID=America/Chicago:20231114T193000
DTEND;TZID=America/Chicago:20231114T220000
DTSTAMP:20260422T173121
CREATED:20230129T023705Z
LAST-MODIFIED:20230129T023751Z
UID:10008077-1699990200-1699999200@tuscaloosaspecials.com
SUMMARY:Backstage Comics @ Mugshots
DESCRIPTION:Signups @ 7:30 pm; Mic @ 8:00 pm
URL:https://tuscaloosaspecials.com/event/backstage-comics-mugshots/2023-11-14/
LOCATION:Mugshots Grill and Bar\, 511 Greensboro Ave\, Tuscaloosa\, AL\, 35401\, United States
CATEGORIES:Entertainment
END:VEVENT
BEGIN:VEVENT
DTSTART;TZID=America/Chicago:20231107T193000
DTEND;TZID=America/Chicago:20231107T220000
DTSTAMP:20260422T173121
CREATED:20230129T023705Z
LAST-MODIFIED:20230129T023751Z
UID:10008076-1699385400-1699394400@tuscaloosaspecials.com
SUMMARY:Backstage Comics @ Mugshots
DESCRIPTION:Signups @ 7:30 pm; Mic @ 8:00 pm
URL:https://tuscaloosaspecials.com/event/backstage-comics-mugshots/2023-11-07/
LOCATION:Mugshots Grill and Bar\, 511 Greensboro Ave\, Tuscaloosa\, AL\, 35401\, United States
CATEGORIES:Entertainment
END:VEVENT
BEGIN:VEVENT
DTSTART;TZID=America/Chicago:20231031T193000
DTEND;TZID=America/Chicago:20231031T220000
DTSTAMP:20260422T173121
CREATED:20230129T023705Z
LAST-MODIFIED:20230129T023751Z
UID:10008075-1698780600-1698789600@tuscaloosaspecials.com
SUMMARY:Backstage Comics @ Mugshots
DESCRIPTION:Signups @ 7:30 pm; Mic @ 8:00 pm
URL:https://tuscaloosaspecials.com/event/backstage-comics-mugshots/2023-10-31/
LOCATION:Mugshots Grill and Bar\, 511 Greensboro Ave\, Tuscaloosa\, AL\, 35401\, United States
CATEGORIES:Entertainment
END:VEVENT
BEGIN:VEVENT
DTSTART;TZID=America/Chicago:20231024T193000
DTEND;TZID=America/Chicago:20231024T220000
DTSTAMP:20260422T173121
CREATED:20230129T023705Z
LAST-MODIFIED:20230129T023751Z
UID:10008074-1698175800-1698184800@tuscaloosaspecials.com
SUMMARY:Backstage Comics @ Mugshots
DESCRIPTION:Signups @ 7:30 pm; Mic @ 8:00 pm
URL:https://tuscaloosaspecials.com/event/backstage-comics-mugshots/2023-10-24/
LOCATION:Mugshots Grill and Bar\, 511 Greensboro Ave\, Tuscaloosa\, AL\, 35401\, United States
CATEGORIES:Entertainment
END:VEVENT
BEGIN:VEVENT
DTSTART;TZID=America/Chicago:20231017T193000
DTEND;TZID=America/Chicago:20231017T220000
DTSTAMP:20260422T173121
CREATED:20230129T023705Z
LAST-MODIFIED:20230129T023751Z
UID:10008073-1697571000-1697580000@tuscaloosaspecials.com
SUMMARY:Backstage Comics @ Mugshots
DESCRIPTION:Signups @ 7:30 pm; Mic @ 8:00 pm
URL:https://tuscaloosaspecials.com/event/backstage-comics-mugshots/2023-10-17/
LOCATION:Mugshots Grill and Bar\, 511 Greensboro Ave\, Tuscaloosa\, AL\, 35401\, United States
CATEGORIES:Entertainment
END:VEVENT
BEGIN:VEVENT
DTSTART;TZID=America/Chicago:20231010T193000
DTEND;TZID=America/Chicago:20231010T220000
DTSTAMP:20260422T173121
CREATED:20230129T023705Z
LAST-MODIFIED:20230129T023751Z
UID:10008072-1696966200-1696975200@tuscaloosaspecials.com
SUMMARY:Backstage Comics @ Mugshots
DESCRIPTION:Signups @ 7:30 pm; Mic @ 8:00 pm
URL:https://tuscaloosaspecials.com/event/backstage-comics-mugshots/2023-10-10/
LOCATION:Mugshots Grill and Bar\, 511 Greensboro Ave\, Tuscaloosa\, AL\, 35401\, United States
CATEGORIES:Entertainment
END:VEVENT
BEGIN:VEVENT
DTSTART;TZID=America/Chicago:20231003T193000
DTEND;TZID=America/Chicago:20231003T220000
DTSTAMP:20260422T173121
CREATED:20230129T023705Z
LAST-MODIFIED:20230129T023751Z
UID:10008071-1696361400-1696370400@tuscaloosaspecials.com
SUMMARY:Backstage Comics @ Mugshots
DESCRIPTION:Signups @ 7:30 pm; Mic @ 8:00 pm
URL:https://tuscaloosaspecials.com/event/backstage-comics-mugshots/2023-10-03/
LOCATION:Mugshots Grill and Bar\, 511 Greensboro Ave\, Tuscaloosa\, AL\, 35401\, United States
CATEGORIES:Entertainment
END:VEVENT
BEGIN:VEVENT
DTSTART;TZID=America/Chicago:20230926T193000
DTEND;TZID=America/Chicago:20230926T220000
DTSTAMP:20260422T173121
CREATED:20230129T023705Z
LAST-MODIFIED:20230129T023751Z
UID:10008070-1695756600-1695765600@tuscaloosaspecials.com
SUMMARY:Backstage Comics @ Mugshots
DESCRIPTION:Signups @ 7:30 pm; Mic @ 8:00 pm
URL:https://tuscaloosaspecials.com/event/backstage-comics-mugshots/2023-09-26/
LOCATION:Mugshots Grill and Bar\, 511 Greensboro Ave\, Tuscaloosa\, AL\, 35401\, United States
CATEGORIES:Entertainment
END:VEVENT
BEGIN:VEVENT
DTSTART;TZID=America/Chicago:20230919T193000
DTEND;TZID=America/Chicago:20230919T220000
DTSTAMP:20260422T173121
CREATED:20230129T023705Z
LAST-MODIFIED:20230129T023751Z
UID:10008069-1695151800-1695160800@tuscaloosaspecials.com
SUMMARY:Backstage Comics @ Mugshots
DESCRIPTION:Signups @ 7:30 pm; Mic @ 8:00 pm
URL:https://tuscaloosaspecials.com/event/backstage-comics-mugshots/2023-09-19/
LOCATION:Mugshots Grill and Bar\, 511 Greensboro Ave\, Tuscaloosa\, AL\, 35401\, United States
CATEGORIES:Entertainment
END:VEVENT
BEGIN:VEVENT
DTSTART;TZID=America/Chicago:20230912T193000
DTEND;TZID=America/Chicago:20230912T220000
DTSTAMP:20260422T173121
CREATED:20230129T023705Z
LAST-MODIFIED:20230129T023751Z
UID:10008068-1694547000-1694556000@tuscaloosaspecials.com
SUMMARY:Backstage Comics @ Mugshots
DESCRIPTION:Signups @ 7:30 pm; Mic @ 8:00 pm
URL:https://tuscaloosaspecials.com/event/backstage-comics-mugshots/2023-09-12/
LOCATION:Mugshots Grill and Bar\, 511 Greensboro Ave\, Tuscaloosa\, AL\, 35401\, United States
CATEGORIES:Entertainment
END:VEVENT
BEGIN:VEVENT
DTSTART;TZID=America/Chicago:20230905T193000
DTEND;TZID=America/Chicago:20230905T220000
DTSTAMP:20260422T173121
CREATED:20230129T023705Z
LAST-MODIFIED:20230129T023751Z
UID:10008067-1693942200-1693951200@tuscaloosaspecials.com
SUMMARY:Backstage Comics @ Mugshots
DESCRIPTION:Signups @ 7:30 pm; Mic @ 8:00 pm
URL:https://tuscaloosaspecials.com/event/backstage-comics-mugshots/2023-09-05/
LOCATION:Mugshots Grill and Bar\, 511 Greensboro Ave\, Tuscaloosa\, AL\, 35401\, United States
CATEGORIES:Entertainment
END:VEVENT
BEGIN:VEVENT
DTSTART;TZID=America/Chicago:20230829T193000
DTEND;TZID=America/Chicago:20230829T220000
DTSTAMP:20260422T173121
CREATED:20230129T023705Z
LAST-MODIFIED:20230129T023751Z
UID:10008066-1693337400-1693346400@tuscaloosaspecials.com
SUMMARY:Backstage Comics @ Mugshots
DESCRIPTION:Signups @ 7:30 pm; Mic @ 8:00 pm
URL:https://tuscaloosaspecials.com/event/backstage-comics-mugshots/2023-08-29/
LOCATION:Mugshots Grill and Bar\, 511 Greensboro Ave\, Tuscaloosa\, AL\, 35401\, United States
CATEGORIES:Entertainment
END:VEVENT
BEGIN:VEVENT
DTSTART;TZID=America/Chicago:20230822T193000
DTEND;TZID=America/Chicago:20230822T220000
DTSTAMP:20260422T173121
CREATED:20230129T023705Z
LAST-MODIFIED:20230129T023751Z
UID:10008065-1692732600-1692741600@tuscaloosaspecials.com
SUMMARY:Backstage Comics @ Mugshots
DESCRIPTION:Signups @ 7:30 pm; Mic @ 8:00 pm
URL:https://tuscaloosaspecials.com/event/backstage-comics-mugshots/2023-08-22/
LOCATION:Mugshots Grill and Bar\, 511 Greensboro Ave\, Tuscaloosa\, AL\, 35401\, United States
CATEGORIES:Entertainment
END:VEVENT
BEGIN:VEVENT
DTSTART;TZID=America/Chicago:20230815T193000
DTEND;TZID=America/Chicago:20230815T220000
DTSTAMP:20260422T173121
CREATED:20230129T023705Z
LAST-MODIFIED:20230129T023751Z
UID:10008064-1692127800-1692136800@tuscaloosaspecials.com
SUMMARY:Backstage Comics @ Mugshots
DESCRIPTION:Signups @ 7:30 pm; Mic @ 8:00 pm
URL:https://tuscaloosaspecials.com/event/backstage-comics-mugshots/2023-08-15/
LOCATION:Mugshots Grill and Bar\, 511 Greensboro Ave\, Tuscaloosa\, AL\, 35401\, United States
CATEGORIES:Entertainment
END:VEVENT
BEGIN:VEVENT
DTSTART;TZID=America/Chicago:20230808T193000
DTEND;TZID=America/Chicago:20230808T220000
DTSTAMP:20260422T173121
CREATED:20230129T023705Z
LAST-MODIFIED:20230129T023751Z
UID:10008063-1691523000-1691532000@tuscaloosaspecials.com
SUMMARY:Backstage Comics @ Mugshots
DESCRIPTION:Signups @ 7:30 pm; Mic @ 8:00 pm
URL:https://tuscaloosaspecials.com/event/backstage-comics-mugshots/2023-08-08/
LOCATION:Mugshots Grill and Bar\, 511 Greensboro Ave\, Tuscaloosa\, AL\, 35401\, United States
CATEGORIES:Entertainment
END:VEVENT
BEGIN:VEVENT
DTSTART;TZID=America/Chicago:20230801T193000
DTEND;TZID=America/Chicago:20230801T220000
DTSTAMP:20260422T173121
CREATED:20230129T023705Z
LAST-MODIFIED:20230129T023751Z
UID:10008062-1690918200-1690927200@tuscaloosaspecials.com
SUMMARY:Backstage Comics @ Mugshots
DESCRIPTION:Signups @ 7:30 pm; Mic @ 8:00 pm
URL:https://tuscaloosaspecials.com/event/backstage-comics-mugshots/2023-08-01/
LOCATION:Mugshots Grill and Bar\, 511 Greensboro Ave\, Tuscaloosa\, AL\, 35401\, United States
CATEGORIES:Entertainment
END:VEVENT
BEGIN:VEVENT
DTSTART;TZID=America/Chicago:20230725T193000
DTEND;TZID=America/Chicago:20230725T220000
DTSTAMP:20260422T173121
CREATED:20230129T023705Z
LAST-MODIFIED:20230129T023751Z
UID:10008061-1690313400-1690322400@tuscaloosaspecials.com
SUMMARY:Backstage Comics @ Mugshots
DESCRIPTION:Signups @ 7:30 pm; Mic @ 8:00 pm
URL:https://tuscaloosaspecials.com/event/backstage-comics-mugshots/2023-07-25/
LOCATION:Mugshots Grill and Bar\, 511 Greensboro Ave\, Tuscaloosa\, AL\, 35401\, United States
CATEGORIES:Entertainment
END:VEVENT
BEGIN:VEVENT
DTSTART;TZID=America/Chicago:20230718T193000
DTEND;TZID=America/Chicago:20230718T220000
DTSTAMP:20260422T173121
CREATED:20230129T023705Z
LAST-MODIFIED:20230129T023751Z
UID:10008060-1689708600-1689717600@tuscaloosaspecials.com
SUMMARY:Backstage Comics @ Mugshots
DESCRIPTION:Signups @ 7:30 pm; Mic @ 8:00 pm
URL:https://tuscaloosaspecials.com/event/backstage-comics-mugshots/2023-07-18/
LOCATION:Mugshots Grill and Bar\, 511 Greensboro Ave\, Tuscaloosa\, AL\, 35401\, United States
CATEGORIES:Entertainment
END:VEVENT
BEGIN:VEVENT
DTSTART;TZID=America/Chicago:20230711T193000
DTEND;TZID=America/Chicago:20230711T220000
DTSTAMP:20260422T173121
CREATED:20230129T023705Z
LAST-MODIFIED:20230129T023751Z
UID:10008059-1689103800-1689112800@tuscaloosaspecials.com
SUMMARY:Backstage Comics @ Mugshots
DESCRIPTION:Signups @ 7:30 pm; Mic @ 8:00 pm
URL:https://tuscaloosaspecials.com/event/backstage-comics-mugshots/2023-07-11/
LOCATION:Mugshots Grill and Bar\, 511 Greensboro Ave\, Tuscaloosa\, AL\, 35401\, United States
CATEGORIES:Entertainment
END:VEVENT
BEGIN:VEVENT
DTSTART;TZID=America/Chicago:20230704T193000
DTEND;TZID=America/Chicago:20230704T220000
DTSTAMP:20260422T173121
CREATED:20230129T023705Z
LAST-MODIFIED:20230129T023751Z
UID:10008058-1688499000-1688508000@tuscaloosaspecials.com
SUMMARY:Backstage Comics @ Mugshots
DESCRIPTION:Signups @ 7:30 pm; Mic @ 8:00 pm
URL:https://tuscaloosaspecials.com/event/backstage-comics-mugshots/2023-07-04/
LOCATION:Mugshots Grill and Bar\, 511 Greensboro Ave\, Tuscaloosa\, AL\, 35401\, United States
CATEGORIES:Entertainment
END:VEVENT
END:VCALENDAR