BEGIN:VCALENDAR
VERSION:2.0
PRODID:-//Tuscaloosa Specials - ECPv6.15.20//NONSGML v1.0//EN
CALSCALE:GREGORIAN
METHOD:PUBLISH
X-ORIGINAL-URL:https://tuscaloosaspecials.com
X-WR-CALDESC:Events for Tuscaloosa Specials
REFRESH-INTERVAL;VALUE=DURATION:PT1H
X-Robots-Tag:noindex
X-PUBLISHED-TTL:PT1H
BEGIN:VTIMEZONE
TZID:America/Chicago
BEGIN:DAYLIGHT
TZOFFSETFROM:-0600
TZOFFSETTO:-0500
TZNAME:CDT
DTSTART:20220313T080000
END:DAYLIGHT
BEGIN:STANDARD
TZOFFSETFROM:-0500
TZOFFSETTO:-0600
TZNAME:CST
DTSTART:20221106T070000
END:STANDARD
BEGIN:DAYLIGHT
TZOFFSETFROM:-0600
TZOFFSETTO:-0500
TZNAME:CDT
DTSTART:20230312T080000
END:DAYLIGHT
BEGIN:STANDARD
TZOFFSETFROM:-0500
TZOFFSETTO:-0600
TZNAME:CST
DTSTART:20231105T070000
END:STANDARD
BEGIN:DAYLIGHT
TZOFFSETFROM:-0600
TZOFFSETTO:-0500
TZNAME:CDT
DTSTART:20240310T080000
END:DAYLIGHT
BEGIN:STANDARD
TZOFFSETFROM:-0500
TZOFFSETTO:-0600
TZNAME:CST
DTSTART:20241103T070000
END:STANDARD
BEGIN:DAYLIGHT
TZOFFSETFROM:-0600
TZOFFSETTO:-0500
TZNAME:CDT
DTSTART:20250309T080000
END:DAYLIGHT
BEGIN:STANDARD
TZOFFSETFROM:-0500
TZOFFSETTO:-0600
TZNAME:CST
DTSTART:20251102T070000
END:STANDARD
END:VTIMEZONE
BEGIN:VEVENT
DTSTART;TZID=America/Chicago:20240103T160000
DTEND;TZID=America/Chicago:20240103T200000
DTSTAMP:20260423T095055
CREATED:20230121T040907Z
LAST-MODIFIED:20230121T040907Z
UID:10007799-1704297600-1704312000@tuscaloosaspecials.com
SUMMARY:Happy Hour @ Grey Lady
DESCRIPTION:$3 Domestics\, $3.50 Well Drinks
URL:https://tuscaloosaspecials.com/event/happy-hour-grey-lady/2024-01-03/
LOCATION:The Gray Lady\, 521 Greensboro Ave\, Tuscaloosa\, 35401
CATEGORIES:Drink
END:VEVENT
BEGIN:VEVENT
DTSTART;TZID=America/Chicago:20240102T160000
DTEND;TZID=America/Chicago:20240102T200000
DTSTAMP:20260423T095055
CREATED:20230121T040907Z
LAST-MODIFIED:20230121T040907Z
UID:10007798-1704211200-1704225600@tuscaloosaspecials.com
SUMMARY:Happy Hour @ Grey Lady
DESCRIPTION:$3 Domestics\, $3.50 Well Drinks
URL:https://tuscaloosaspecials.com/event/happy-hour-grey-lady/2024-01-02/
LOCATION:The Gray Lady\, 521 Greensboro Ave\, Tuscaloosa\, 35401
CATEGORIES:Drink
END:VEVENT
BEGIN:VEVENT
DTSTART;TZID=America/Chicago:20240101T160000
DTEND;TZID=America/Chicago:20240101T200000
DTSTAMP:20260423T095055
CREATED:20230121T040907Z
LAST-MODIFIED:20230121T040907Z
UID:10007797-1704124800-1704139200@tuscaloosaspecials.com
SUMMARY:Happy Hour @ Grey Lady
DESCRIPTION:$3 Domestics\, $3.50 Well Drinks
URL:https://tuscaloosaspecials.com/event/happy-hour-grey-lady/2024-01-01/
LOCATION:The Gray Lady\, 521 Greensboro Ave\, Tuscaloosa\, 35401
CATEGORIES:Drink
END:VEVENT
BEGIN:VEVENT
DTSTART;TZID=America/Chicago:20231229T160000
DTEND;TZID=America/Chicago:20231229T200000
DTSTAMP:20260423T095055
CREATED:20230121T040907Z
LAST-MODIFIED:20230121T040907Z
UID:10007796-1703865600-1703880000@tuscaloosaspecials.com
SUMMARY:Happy Hour @ Grey Lady
DESCRIPTION:$3 Domestics\, $3.50 Well Drinks
URL:https://tuscaloosaspecials.com/event/happy-hour-grey-lady/2023-12-29/
LOCATION:The Gray Lady\, 521 Greensboro Ave\, Tuscaloosa\, 35401
CATEGORIES:Drink
END:VEVENT
BEGIN:VEVENT
DTSTART;TZID=America/Chicago:20231228T160000
DTEND;TZID=America/Chicago:20231228T200000
DTSTAMP:20260423T095055
CREATED:20230121T040907Z
LAST-MODIFIED:20230121T040907Z
UID:10007795-1703779200-1703793600@tuscaloosaspecials.com
SUMMARY:Happy Hour @ Grey Lady
DESCRIPTION:$3 Domestics\, $3.50 Well Drinks
URL:https://tuscaloosaspecials.com/event/happy-hour-grey-lady/2023-12-28/
LOCATION:The Gray Lady\, 521 Greensboro Ave\, Tuscaloosa\, 35401
CATEGORIES:Drink
END:VEVENT
BEGIN:VEVENT
DTSTART;TZID=America/Chicago:20231227T160000
DTEND;TZID=America/Chicago:20231227T200000
DTSTAMP:20260423T095055
CREATED:20230121T040907Z
LAST-MODIFIED:20230121T040907Z
UID:10007794-1703692800-1703707200@tuscaloosaspecials.com
SUMMARY:Happy Hour @ Grey Lady
DESCRIPTION:$3 Domestics\, $3.50 Well Drinks
URL:https://tuscaloosaspecials.com/event/happy-hour-grey-lady/2023-12-27/
LOCATION:The Gray Lady\, 521 Greensboro Ave\, Tuscaloosa\, 35401
CATEGORIES:Drink
END:VEVENT
BEGIN:VEVENT
DTSTART;TZID=America/Chicago:20231226T160000
DTEND;TZID=America/Chicago:20231226T200000
DTSTAMP:20260423T095056
CREATED:20230121T040907Z
LAST-MODIFIED:20230121T040907Z
UID:10007793-1703606400-1703620800@tuscaloosaspecials.com
SUMMARY:Happy Hour @ Grey Lady
DESCRIPTION:$3 Domestics\, $3.50 Well Drinks
URL:https://tuscaloosaspecials.com/event/happy-hour-grey-lady/2023-12-26/
LOCATION:The Gray Lady\, 521 Greensboro Ave\, Tuscaloosa\, 35401
CATEGORIES:Drink
END:VEVENT
BEGIN:VEVENT
DTSTART;TZID=America/Chicago:20231225T160000
DTEND;TZID=America/Chicago:20231225T200000
DTSTAMP:20260423T095056
CREATED:20230121T040907Z
LAST-MODIFIED:20230121T040907Z
UID:10007792-1703520000-1703534400@tuscaloosaspecials.com
SUMMARY:Happy Hour @ Grey Lady
DESCRIPTION:$3 Domestics\, $3.50 Well Drinks
URL:https://tuscaloosaspecials.com/event/happy-hour-grey-lady/2023-12-25/
LOCATION:The Gray Lady\, 521 Greensboro Ave\, Tuscaloosa\, 35401
CATEGORIES:Drink
END:VEVENT
BEGIN:VEVENT
DTSTART;TZID=America/Chicago:20231222T160000
DTEND;TZID=America/Chicago:20231222T200000
DTSTAMP:20260423T095056
CREATED:20230121T040907Z
LAST-MODIFIED:20230121T040907Z
UID:10007791-1703260800-1703275200@tuscaloosaspecials.com
SUMMARY:Happy Hour @ Grey Lady
DESCRIPTION:$3 Domestics\, $3.50 Well Drinks
URL:https://tuscaloosaspecials.com/event/happy-hour-grey-lady/2023-12-22/
LOCATION:The Gray Lady\, 521 Greensboro Ave\, Tuscaloosa\, 35401
CATEGORIES:Drink
END:VEVENT
BEGIN:VEVENT
DTSTART;TZID=America/Chicago:20231221T160000
DTEND;TZID=America/Chicago:20231221T200000
DTSTAMP:20260423T095056
CREATED:20230121T040907Z
LAST-MODIFIED:20230121T040907Z
UID:10007790-1703174400-1703188800@tuscaloosaspecials.com
SUMMARY:Happy Hour @ Grey Lady
DESCRIPTION:$3 Domestics\, $3.50 Well Drinks
URL:https://tuscaloosaspecials.com/event/happy-hour-grey-lady/2023-12-21/
LOCATION:The Gray Lady\, 521 Greensboro Ave\, Tuscaloosa\, 35401
CATEGORIES:Drink
END:VEVENT
BEGIN:VEVENT
DTSTART;TZID=America/Chicago:20231220T160000
DTEND;TZID=America/Chicago:20231220T200000
DTSTAMP:20260423T095056
CREATED:20230121T040907Z
LAST-MODIFIED:20230121T040907Z
UID:10007789-1703088000-1703102400@tuscaloosaspecials.com
SUMMARY:Happy Hour @ Grey Lady
DESCRIPTION:$3 Domestics\, $3.50 Well Drinks
URL:https://tuscaloosaspecials.com/event/happy-hour-grey-lady/2023-12-20/
LOCATION:The Gray Lady\, 521 Greensboro Ave\, Tuscaloosa\, 35401
CATEGORIES:Drink
END:VEVENT
BEGIN:VEVENT
DTSTART;TZID=America/Chicago:20231219T160000
DTEND;TZID=America/Chicago:20231219T200000
DTSTAMP:20260423T095056
CREATED:20230121T040907Z
LAST-MODIFIED:20230121T040907Z
UID:10007788-1703001600-1703016000@tuscaloosaspecials.com
SUMMARY:Happy Hour @ Grey Lady
DESCRIPTION:$3 Domestics\, $3.50 Well Drinks
URL:https://tuscaloosaspecials.com/event/happy-hour-grey-lady/2023-12-19/
LOCATION:The Gray Lady\, 521 Greensboro Ave\, Tuscaloosa\, 35401
CATEGORIES:Drink
END:VEVENT
BEGIN:VEVENT
DTSTART;TZID=America/Chicago:20231218T160000
DTEND;TZID=America/Chicago:20231218T200000
DTSTAMP:20260423T095056
CREATED:20230121T040907Z
LAST-MODIFIED:20230121T040907Z
UID:10007787-1702915200-1702929600@tuscaloosaspecials.com
SUMMARY:Happy Hour @ Grey Lady
DESCRIPTION:$3 Domestics\, $3.50 Well Drinks
URL:https://tuscaloosaspecials.com/event/happy-hour-grey-lady/2023-12-18/
LOCATION:The Gray Lady\, 521 Greensboro Ave\, Tuscaloosa\, 35401
CATEGORIES:Drink
END:VEVENT
BEGIN:VEVENT
DTSTART;TZID=America/Chicago:20231215T160000
DTEND;TZID=America/Chicago:20231215T200000
DTSTAMP:20260423T095056
CREATED:20230121T040907Z
LAST-MODIFIED:20230121T040907Z
UID:10007786-1702656000-1702670400@tuscaloosaspecials.com
SUMMARY:Happy Hour @ Grey Lady
DESCRIPTION:$3 Domestics\, $3.50 Well Drinks
URL:https://tuscaloosaspecials.com/event/happy-hour-grey-lady/2023-12-15/
LOCATION:The Gray Lady\, 521 Greensboro Ave\, Tuscaloosa\, 35401
CATEGORIES:Drink
END:VEVENT
BEGIN:VEVENT
DTSTART;TZID=America/Chicago:20231214T160000
DTEND;TZID=America/Chicago:20231214T200000
DTSTAMP:20260423T095056
CREATED:20230121T040907Z
LAST-MODIFIED:20230121T040907Z
UID:10007785-1702569600-1702584000@tuscaloosaspecials.com
SUMMARY:Happy Hour @ Grey Lady
DESCRIPTION:$3 Domestics\, $3.50 Well Drinks
URL:https://tuscaloosaspecials.com/event/happy-hour-grey-lady/2023-12-14/
LOCATION:The Gray Lady\, 521 Greensboro Ave\, Tuscaloosa\, 35401
CATEGORIES:Drink
END:VEVENT
BEGIN:VEVENT
DTSTART;TZID=America/Chicago:20231213T160000
DTEND;TZID=America/Chicago:20231213T200000
DTSTAMP:20260423T095056
CREATED:20230121T040907Z
LAST-MODIFIED:20230121T040907Z
UID:10007784-1702483200-1702497600@tuscaloosaspecials.com
SUMMARY:Happy Hour @ Grey Lady
DESCRIPTION:$3 Domestics\, $3.50 Well Drinks
URL:https://tuscaloosaspecials.com/event/happy-hour-grey-lady/2023-12-13/
LOCATION:The Gray Lady\, 521 Greensboro Ave\, Tuscaloosa\, 35401
CATEGORIES:Drink
END:VEVENT
BEGIN:VEVENT
DTSTART;TZID=America/Chicago:20231212T160000
DTEND;TZID=America/Chicago:20231212T200000
DTSTAMP:20260423T095056
CREATED:20230121T040907Z
LAST-MODIFIED:20230121T040907Z
UID:10007783-1702396800-1702411200@tuscaloosaspecials.com
SUMMARY:Happy Hour @ Grey Lady
DESCRIPTION:$3 Domestics\, $3.50 Well Drinks
URL:https://tuscaloosaspecials.com/event/happy-hour-grey-lady/2023-12-12/
LOCATION:The Gray Lady\, 521 Greensboro Ave\, Tuscaloosa\, 35401
CATEGORIES:Drink
END:VEVENT
BEGIN:VEVENT
DTSTART;TZID=America/Chicago:20231211T160000
DTEND;TZID=America/Chicago:20231211T200000
DTSTAMP:20260423T095056
CREATED:20230121T040907Z
LAST-MODIFIED:20230121T040907Z
UID:10007782-1702310400-1702324800@tuscaloosaspecials.com
SUMMARY:Happy Hour @ Grey Lady
DESCRIPTION:$3 Domestics\, $3.50 Well Drinks
URL:https://tuscaloosaspecials.com/event/happy-hour-grey-lady/2023-12-11/
LOCATION:The Gray Lady\, 521 Greensboro Ave\, Tuscaloosa\, 35401
CATEGORIES:Drink
END:VEVENT
BEGIN:VEVENT
DTSTART;TZID=America/Chicago:20231208T160000
DTEND;TZID=America/Chicago:20231208T200000
DTSTAMP:20260423T095056
CREATED:20230121T040907Z
LAST-MODIFIED:20230121T040907Z
UID:10007781-1702051200-1702065600@tuscaloosaspecials.com
SUMMARY:Happy Hour @ Grey Lady
DESCRIPTION:$3 Domestics\, $3.50 Well Drinks
URL:https://tuscaloosaspecials.com/event/happy-hour-grey-lady/2023-12-08/
LOCATION:The Gray Lady\, 521 Greensboro Ave\, Tuscaloosa\, 35401
CATEGORIES:Drink
END:VEVENT
BEGIN:VEVENT
DTSTART;TZID=America/Chicago:20231207T160000
DTEND;TZID=America/Chicago:20231207T200000
DTSTAMP:20260423T095056
CREATED:20230121T040907Z
LAST-MODIFIED:20230121T040907Z
UID:10007780-1701964800-1701979200@tuscaloosaspecials.com
SUMMARY:Happy Hour @ Grey Lady
DESCRIPTION:$3 Domestics\, $3.50 Well Drinks
URL:https://tuscaloosaspecials.com/event/happy-hour-grey-lady/2023-12-07/
LOCATION:The Gray Lady\, 521 Greensboro Ave\, Tuscaloosa\, 35401
CATEGORIES:Drink
END:VEVENT
BEGIN:VEVENT
DTSTART;TZID=America/Chicago:20231206T160000
DTEND;TZID=America/Chicago:20231206T200000
DTSTAMP:20260423T095056
CREATED:20230121T040907Z
LAST-MODIFIED:20230121T040907Z
UID:10007779-1701878400-1701892800@tuscaloosaspecials.com
SUMMARY:Happy Hour @ Grey Lady
DESCRIPTION:$3 Domestics\, $3.50 Well Drinks
URL:https://tuscaloosaspecials.com/event/happy-hour-grey-lady/2023-12-06/
LOCATION:The Gray Lady\, 521 Greensboro Ave\, Tuscaloosa\, 35401
CATEGORIES:Drink
END:VEVENT
BEGIN:VEVENT
DTSTART;TZID=America/Chicago:20231205T160000
DTEND;TZID=America/Chicago:20231205T200000
DTSTAMP:20260423T095056
CREATED:20230121T040907Z
LAST-MODIFIED:20230121T040907Z
UID:10007778-1701792000-1701806400@tuscaloosaspecials.com
SUMMARY:Happy Hour @ Grey Lady
DESCRIPTION:$3 Domestics\, $3.50 Well Drinks
URL:https://tuscaloosaspecials.com/event/happy-hour-grey-lady/2023-12-05/
LOCATION:The Gray Lady\, 521 Greensboro Ave\, Tuscaloosa\, 35401
CATEGORIES:Drink
END:VEVENT
BEGIN:VEVENT
DTSTART;TZID=America/Chicago:20231204T160000
DTEND;TZID=America/Chicago:20231204T200000
DTSTAMP:20260423T095056
CREATED:20230121T040907Z
LAST-MODIFIED:20230121T040907Z
UID:10007777-1701705600-1701720000@tuscaloosaspecials.com
SUMMARY:Happy Hour @ Grey Lady
DESCRIPTION:$3 Domestics\, $3.50 Well Drinks
URL:https://tuscaloosaspecials.com/event/happy-hour-grey-lady/2023-12-04/
LOCATION:The Gray Lady\, 521 Greensboro Ave\, Tuscaloosa\, 35401
CATEGORIES:Drink
END:VEVENT
BEGIN:VEVENT
DTSTART;TZID=America/Chicago:20231201T160000
DTEND;TZID=America/Chicago:20231201T200000
DTSTAMP:20260423T095056
CREATED:20230121T040907Z
LAST-MODIFIED:20230121T040907Z
UID:10007776-1701446400-1701460800@tuscaloosaspecials.com
SUMMARY:Happy Hour @ Grey Lady
DESCRIPTION:$3 Domestics\, $3.50 Well Drinks
URL:https://tuscaloosaspecials.com/event/happy-hour-grey-lady/2023-12-01/
LOCATION:The Gray Lady\, 521 Greensboro Ave\, Tuscaloosa\, 35401
CATEGORIES:Drink
END:VEVENT
BEGIN:VEVENT
DTSTART;TZID=America/Chicago:20231130T160000
DTEND;TZID=America/Chicago:20231130T200000
DTSTAMP:20260423T095056
CREATED:20230121T040907Z
LAST-MODIFIED:20230121T040907Z
UID:10007775-1701360000-1701374400@tuscaloosaspecials.com
SUMMARY:Happy Hour @ Grey Lady
DESCRIPTION:$3 Domestics\, $3.50 Well Drinks
URL:https://tuscaloosaspecials.com/event/happy-hour-grey-lady/2023-11-30/
LOCATION:The Gray Lady\, 521 Greensboro Ave\, Tuscaloosa\, 35401
CATEGORIES:Drink
END:VEVENT
BEGIN:VEVENT
DTSTART;TZID=America/Chicago:20231129T160000
DTEND;TZID=America/Chicago:20231129T200000
DTSTAMP:20260423T095056
CREATED:20230121T040907Z
LAST-MODIFIED:20230121T040907Z
UID:10007774-1701273600-1701288000@tuscaloosaspecials.com
SUMMARY:Happy Hour @ Grey Lady
DESCRIPTION:$3 Domestics\, $3.50 Well Drinks
URL:https://tuscaloosaspecials.com/event/happy-hour-grey-lady/2023-11-29/
LOCATION:The Gray Lady\, 521 Greensboro Ave\, Tuscaloosa\, 35401
CATEGORIES:Drink
END:VEVENT
BEGIN:VEVENT
DTSTART;TZID=America/Chicago:20231128T160000
DTEND;TZID=America/Chicago:20231128T200000
DTSTAMP:20260423T095056
CREATED:20230121T040907Z
LAST-MODIFIED:20230121T040907Z
UID:10007773-1701187200-1701201600@tuscaloosaspecials.com
SUMMARY:Happy Hour @ Grey Lady
DESCRIPTION:$3 Domestics\, $3.50 Well Drinks
URL:https://tuscaloosaspecials.com/event/happy-hour-grey-lady/2023-11-28/
LOCATION:The Gray Lady\, 521 Greensboro Ave\, Tuscaloosa\, 35401
CATEGORIES:Drink
END:VEVENT
BEGIN:VEVENT
DTSTART;TZID=America/Chicago:20231127T160000
DTEND;TZID=America/Chicago:20231127T200000
DTSTAMP:20260423T095057
CREATED:20230121T040907Z
LAST-MODIFIED:20230121T040907Z
UID:10007772-1701100800-1701115200@tuscaloosaspecials.com
SUMMARY:Happy Hour @ Grey Lady
DESCRIPTION:$3 Domestics\, $3.50 Well Drinks
URL:https://tuscaloosaspecials.com/event/happy-hour-grey-lady/2023-11-27/
LOCATION:The Gray Lady\, 521 Greensboro Ave\, Tuscaloosa\, 35401
CATEGORIES:Drink
END:VEVENT
BEGIN:VEVENT
DTSTART;TZID=America/Chicago:20231124T160000
DTEND;TZID=America/Chicago:20231124T200000
DTSTAMP:20260423T095057
CREATED:20230121T040907Z
LAST-MODIFIED:20230121T040907Z
UID:10007771-1700841600-1700856000@tuscaloosaspecials.com
SUMMARY:Happy Hour @ Grey Lady
DESCRIPTION:$3 Domestics\, $3.50 Well Drinks
URL:https://tuscaloosaspecials.com/event/happy-hour-grey-lady/2023-11-24/
LOCATION:The Gray Lady\, 521 Greensboro Ave\, Tuscaloosa\, 35401
CATEGORIES:Drink
END:VEVENT
BEGIN:VEVENT
DTSTART;TZID=America/Chicago:20231123T160000
DTEND;TZID=America/Chicago:20231123T200000
DTSTAMP:20260423T095057
CREATED:20230121T040907Z
LAST-MODIFIED:20230121T040907Z
UID:10007770-1700755200-1700769600@tuscaloosaspecials.com
SUMMARY:Happy Hour @ Grey Lady
DESCRIPTION:$3 Domestics\, $3.50 Well Drinks
URL:https://tuscaloosaspecials.com/event/happy-hour-grey-lady/2023-11-23/
LOCATION:The Gray Lady\, 521 Greensboro Ave\, Tuscaloosa\, 35401
CATEGORIES:Drink
END:VEVENT
END:VCALENDAR