BEGIN:VCALENDAR
VERSION:2.0
PRODID:-//Tuscaloosa Specials - ECPv6.15.20//NONSGML v1.0//EN
CALSCALE:GREGORIAN
METHOD:PUBLISH
X-ORIGINAL-URL:https://tuscaloosaspecials.com
X-WR-CALDESC:Events for Tuscaloosa Specials
REFRESH-INTERVAL;VALUE=DURATION:PT1H
X-Robots-Tag:noindex
X-PUBLISHED-TTL:PT1H
BEGIN:VTIMEZONE
TZID:America/Chicago
BEGIN:DAYLIGHT
TZOFFSETFROM:-0600
TZOFFSETTO:-0500
TZNAME:CDT
DTSTART:20220313T080000
END:DAYLIGHT
BEGIN:STANDARD
TZOFFSETFROM:-0500
TZOFFSETTO:-0600
TZNAME:CST
DTSTART:20221106T070000
END:STANDARD
BEGIN:DAYLIGHT
TZOFFSETFROM:-0600
TZOFFSETTO:-0500
TZNAME:CDT
DTSTART:20230312T080000
END:DAYLIGHT
BEGIN:STANDARD
TZOFFSETFROM:-0500
TZOFFSETTO:-0600
TZNAME:CST
DTSTART:20231105T070000
END:STANDARD
BEGIN:DAYLIGHT
TZOFFSETFROM:-0600
TZOFFSETTO:-0500
TZNAME:CDT
DTSTART:20240310T080000
END:DAYLIGHT
BEGIN:STANDARD
TZOFFSETFROM:-0500
TZOFFSETTO:-0600
TZNAME:CST
DTSTART:20241103T070000
END:STANDARD
END:VTIMEZONE
BEGIN:VEVENT
DTSTART;VALUE=DATE:20231019
DTEND;VALUE=DATE:20231021
DTSTAMP:20260422T181144
CREATED:20220804T225416Z
LAST-MODIFIED:20220902T225543Z
UID:10006326-1697684400-1697770799@tuscaloosaspecials.com
SUMMARY:Wings @ World of Beer
DESCRIPTION:75¢ Traditional and $1 Boneless Wings
URL:https://tuscaloosaspecials.com/event/wings-world-of-beer/2023-10-19/
LOCATION:World of Beer\, 2107 University Blvd\, Tuscaloosa\, AL\, 35401\, United States
CATEGORIES:Food
END:VEVENT
BEGIN:VEVENT
DTSTART;VALUE=DATE:20231018
DTEND;VALUE=DATE:20231020
DTSTAMP:20260422T181144
CREATED:20220803T224911Z
LAST-MODIFIED:20220902T225201Z
UID:10006249-1697598000-1697684399@tuscaloosaspecials.com
SUMMARY:$15 Dragon Berry Mojito Pitchers @ World of Beer
DESCRIPTION:
URL:https://tuscaloosaspecials.com/event/15-dragon-berry-mojito-pitchers-world-of-beer/2023-10-18/
LOCATION:World of Beer\, 2107 University Blvd\, Tuscaloosa\, AL\, 35401\, United States
CATEGORIES:Drink
END:VEVENT
BEGIN:VEVENT
DTSTART;TZID=America/Chicago:20231017T080000
DTEND;TZID=America/Chicago:20231017T170000
DTSTAMP:20260422T181144
CREATED:20230121T012456Z
LAST-MODIFIED:20230121T012456Z
UID:10006968-1697529600-1697562000@tuscaloosaspecials.com
SUMMARY:Tuesdays @ Wheelhouse Sports Pub
DESCRIPTION:$6 doubles\, $8 pitchers\, $15 pizza + pitcher
URL:https://tuscaloosaspecials.com/event/tuesdays-wheelhouse-sports-pub/2023-10-17/
LOCATION:World of Beer\, 2107 University Blvd\, Tuscaloosa\, AL\, 35401\, United States
CATEGORIES:Drink,Food
END:VEVENT
BEGIN:VEVENT
DTSTART;VALUE=DATE:20231017
DTEND;VALUE=DATE:20231019
DTSTAMP:20260422T181144
CREATED:20220802T224635Z
LAST-MODIFIED:20220902T230251Z
UID:10006172-1697511600-1697597999@tuscaloosaspecials.com
SUMMARY:Taco Tuesday & Margaritas @ World of Beer
DESCRIPTION:$2.50 (beef or blackened chicken) or $3.50 (shrimp or crispy chicken) Tacos\, $15 Margarita Pitchers
URL:https://tuscaloosaspecials.com/event/tuesday-specials-world-of-beer/2023-10-17/
LOCATION:World of Beer\, 2107 University Blvd\, Tuscaloosa\, AL\, 35401\, United States
CATEGORIES:Drink,Food
END:VEVENT
BEGIN:VEVENT
DTSTART;VALUE=DATE:20231016
DTEND;VALUE=DATE:20231018
DTSTAMP:20260422T181144
CREATED:20220801T224622Z
LAST-MODIFIED:20230121T013457Z
UID:10006095-1697425200-1697511599@tuscaloosaspecials.com
SUMMARY:Mondays @ World Of Beer
DESCRIPTION:$5.95 Build Your Own Burger\, $5 Domestic Beer Pitchers
URL:https://tuscaloosaspecials.com/event/monday-specials-world-of-beer/2023-10-16/
LOCATION:World of Beer\, 2107 University Blvd\, Tuscaloosa\, AL\, 35401\, United States
CATEGORIES:Drink,Food
END:VEVENT
BEGIN:VEVENT
DTSTART;VALUE=DATE:20231014
DTEND;VALUE=DATE:20231016
DTSTAMP:20260422T181144
CREATED:20230208T014056Z
LAST-MODIFIED:20230208T014056Z
UID:10008159-1697252400-1697338799@tuscaloosaspecials.com
SUMMARY:50 Cent Jumbo Wings @ World of Beer
DESCRIPTION:
URL:https://tuscaloosaspecials.com/event/50-cent-jumbo-wings-world-of-beer/2023-10-14/
LOCATION:World of Beer\, 2107 University Blvd\, Tuscaloosa\, AL\, 35401\, United States
CATEGORIES:Food
END:VEVENT
BEGIN:VEVENT
DTSTART;VALUE=DATE:20231012
DTEND;VALUE=DATE:20231014
DTSTAMP:20260422T181145
CREATED:20230208T014056Z
LAST-MODIFIED:20230208T014056Z
UID:10008158-1697079600-1697165999@tuscaloosaspecials.com
SUMMARY:50 Cent Jumbo Wings @ World of Beer
DESCRIPTION:
URL:https://tuscaloosaspecials.com/event/50-cent-jumbo-wings-world-of-beer/2023-10-12/
LOCATION:World of Beer\, 2107 University Blvd\, Tuscaloosa\, AL\, 35401\, United States
CATEGORIES:Food
END:VEVENT
BEGIN:VEVENT
DTSTART;VALUE=DATE:20231012
DTEND;VALUE=DATE:20231014
DTSTAMP:20260422T181145
CREATED:20220804T225416Z
LAST-MODIFIED:20220902T225543Z
UID:10006325-1697079600-1697165999@tuscaloosaspecials.com
SUMMARY:Wings @ World of Beer
DESCRIPTION:75¢ Traditional and $1 Boneless Wings
URL:https://tuscaloosaspecials.com/event/wings-world-of-beer/2023-10-12/
LOCATION:World of Beer\, 2107 University Blvd\, Tuscaloosa\, AL\, 35401\, United States
CATEGORIES:Food
END:VEVENT
BEGIN:VEVENT
DTSTART;VALUE=DATE:20231011
DTEND;VALUE=DATE:20231013
DTSTAMP:20260422T181145
CREATED:20220803T224911Z
LAST-MODIFIED:20220902T225201Z
UID:10006248-1696993200-1697079599@tuscaloosaspecials.com
SUMMARY:$15 Dragon Berry Mojito Pitchers @ World of Beer
DESCRIPTION:
URL:https://tuscaloosaspecials.com/event/15-dragon-berry-mojito-pitchers-world-of-beer/2023-10-11/
LOCATION:World of Beer\, 2107 University Blvd\, Tuscaloosa\, AL\, 35401\, United States
CATEGORIES:Drink
END:VEVENT
BEGIN:VEVENT
DTSTART;TZID=America/Chicago:20231010T080000
DTEND;TZID=America/Chicago:20231010T170000
DTSTAMP:20260422T181145
CREATED:20230121T012456Z
LAST-MODIFIED:20230121T012456Z
UID:10006967-1696924800-1696957200@tuscaloosaspecials.com
SUMMARY:Tuesdays @ Wheelhouse Sports Pub
DESCRIPTION:$6 doubles\, $8 pitchers\, $15 pizza + pitcher
URL:https://tuscaloosaspecials.com/event/tuesdays-wheelhouse-sports-pub/2023-10-10/
LOCATION:World of Beer\, 2107 University Blvd\, Tuscaloosa\, AL\, 35401\, United States
CATEGORIES:Drink,Food
END:VEVENT
BEGIN:VEVENT
DTSTART;VALUE=DATE:20231010
DTEND;VALUE=DATE:20231012
DTSTAMP:20260422T181145
CREATED:20220802T224635Z
LAST-MODIFIED:20220902T230251Z
UID:10006171-1696906800-1696993199@tuscaloosaspecials.com
SUMMARY:Taco Tuesday & Margaritas @ World of Beer
DESCRIPTION:$2.50 (beef or blackened chicken) or $3.50 (shrimp or crispy chicken) Tacos\, $15 Margarita Pitchers
URL:https://tuscaloosaspecials.com/event/tuesday-specials-world-of-beer/2023-10-10/
LOCATION:World of Beer\, 2107 University Blvd\, Tuscaloosa\, AL\, 35401\, United States
CATEGORIES:Drink,Food
END:VEVENT
BEGIN:VEVENT
DTSTART;VALUE=DATE:20231009
DTEND;VALUE=DATE:20231011
DTSTAMP:20260422T181145
CREATED:20220801T224622Z
LAST-MODIFIED:20230121T013457Z
UID:10006094-1696820400-1696906799@tuscaloosaspecials.com
SUMMARY:Mondays @ World Of Beer
DESCRIPTION:$5.95 Build Your Own Burger\, $5 Domestic Beer Pitchers
URL:https://tuscaloosaspecials.com/event/monday-specials-world-of-beer/2023-10-09/
LOCATION:World of Beer\, 2107 University Blvd\, Tuscaloosa\, AL\, 35401\, United States
CATEGORIES:Drink,Food
END:VEVENT
BEGIN:VEVENT
DTSTART;VALUE=DATE:20231007
DTEND;VALUE=DATE:20231009
DTSTAMP:20260422T181145
CREATED:20230208T014056Z
LAST-MODIFIED:20230208T014056Z
UID:10008157-1696647600-1696733999@tuscaloosaspecials.com
SUMMARY:50 Cent Jumbo Wings @ World of Beer
DESCRIPTION:
URL:https://tuscaloosaspecials.com/event/50-cent-jumbo-wings-world-of-beer/2023-10-07/
LOCATION:World of Beer\, 2107 University Blvd\, Tuscaloosa\, AL\, 35401\, United States
CATEGORIES:Food
END:VEVENT
BEGIN:VEVENT
DTSTART;VALUE=DATE:20231005
DTEND;VALUE=DATE:20231007
DTSTAMP:20260422T181145
CREATED:20230208T014056Z
LAST-MODIFIED:20230208T014056Z
UID:10008156-1696474800-1696561199@tuscaloosaspecials.com
SUMMARY:50 Cent Jumbo Wings @ World of Beer
DESCRIPTION:
URL:https://tuscaloosaspecials.com/event/50-cent-jumbo-wings-world-of-beer/2023-10-05/
LOCATION:World of Beer\, 2107 University Blvd\, Tuscaloosa\, AL\, 35401\, United States
CATEGORIES:Food
END:VEVENT
BEGIN:VEVENT
DTSTART;VALUE=DATE:20231005
DTEND;VALUE=DATE:20231007
DTSTAMP:20260422T181145
CREATED:20220804T225416Z
LAST-MODIFIED:20220902T225543Z
UID:10006324-1696474800-1696561199@tuscaloosaspecials.com
SUMMARY:Wings @ World of Beer
DESCRIPTION:75¢ Traditional and $1 Boneless Wings
URL:https://tuscaloosaspecials.com/event/wings-world-of-beer/2023-10-05/
LOCATION:World of Beer\, 2107 University Blvd\, Tuscaloosa\, AL\, 35401\, United States
CATEGORIES:Food
END:VEVENT
BEGIN:VEVENT
DTSTART;VALUE=DATE:20231004
DTEND;VALUE=DATE:20231006
DTSTAMP:20260422T181145
CREATED:20220803T224911Z
LAST-MODIFIED:20220902T225201Z
UID:10006247-1696388400-1696474799@tuscaloosaspecials.com
SUMMARY:$15 Dragon Berry Mojito Pitchers @ World of Beer
DESCRIPTION:
URL:https://tuscaloosaspecials.com/event/15-dragon-berry-mojito-pitchers-world-of-beer/2023-10-04/
LOCATION:World of Beer\, 2107 University Blvd\, Tuscaloosa\, AL\, 35401\, United States
CATEGORIES:Drink
END:VEVENT
BEGIN:VEVENT
DTSTART;TZID=America/Chicago:20231003T080000
DTEND;TZID=America/Chicago:20231003T170000
DTSTAMP:20260422T181145
CREATED:20230121T012456Z
LAST-MODIFIED:20230121T012456Z
UID:10006966-1696320000-1696352400@tuscaloosaspecials.com
SUMMARY:Tuesdays @ Wheelhouse Sports Pub
DESCRIPTION:$6 doubles\, $8 pitchers\, $15 pizza + pitcher
URL:https://tuscaloosaspecials.com/event/tuesdays-wheelhouse-sports-pub/2023-10-03/
LOCATION:World of Beer\, 2107 University Blvd\, Tuscaloosa\, AL\, 35401\, United States
CATEGORIES:Drink,Food
END:VEVENT
BEGIN:VEVENT
DTSTART;VALUE=DATE:20231003
DTEND;VALUE=DATE:20231005
DTSTAMP:20260422T181145
CREATED:20220802T224635Z
LAST-MODIFIED:20220902T230251Z
UID:10006170-1696302000-1696388399@tuscaloosaspecials.com
SUMMARY:Taco Tuesday & Margaritas @ World of Beer
DESCRIPTION:$2.50 (beef or blackened chicken) or $3.50 (shrimp or crispy chicken) Tacos\, $15 Margarita Pitchers
URL:https://tuscaloosaspecials.com/event/tuesday-specials-world-of-beer/2023-10-03/
LOCATION:World of Beer\, 2107 University Blvd\, Tuscaloosa\, AL\, 35401\, United States
CATEGORIES:Drink,Food
END:VEVENT
BEGIN:VEVENT
DTSTART;VALUE=DATE:20231002
DTEND;VALUE=DATE:20231004
DTSTAMP:20260422T181145
CREATED:20220801T224622Z
LAST-MODIFIED:20230121T013457Z
UID:10006093-1696215600-1696301999@tuscaloosaspecials.com
SUMMARY:Mondays @ World Of Beer
DESCRIPTION:$5.95 Build Your Own Burger\, $5 Domestic Beer Pitchers
URL:https://tuscaloosaspecials.com/event/monday-specials-world-of-beer/2023-10-02/
LOCATION:World of Beer\, 2107 University Blvd\, Tuscaloosa\, AL\, 35401\, United States
CATEGORIES:Drink,Food
END:VEVENT
BEGIN:VEVENT
DTSTART;VALUE=DATE:20230930
DTEND;VALUE=DATE:20231002
DTSTAMP:20260422T181145
CREATED:20230208T014056Z
LAST-MODIFIED:20230208T014056Z
UID:10008155-1696042800-1696129199@tuscaloosaspecials.com
SUMMARY:50 Cent Jumbo Wings @ World of Beer
DESCRIPTION:
URL:https://tuscaloosaspecials.com/event/50-cent-jumbo-wings-world-of-beer/2023-09-30/
LOCATION:World of Beer\, 2107 University Blvd\, Tuscaloosa\, AL\, 35401\, United States
CATEGORIES:Food
END:VEVENT
BEGIN:VEVENT
DTSTART;VALUE=DATE:20230928
DTEND;VALUE=DATE:20230930
DTSTAMP:20260422T181145
CREATED:20230208T014056Z
LAST-MODIFIED:20230208T014056Z
UID:10008154-1695870000-1695956399@tuscaloosaspecials.com
SUMMARY:50 Cent Jumbo Wings @ World of Beer
DESCRIPTION:
URL:https://tuscaloosaspecials.com/event/50-cent-jumbo-wings-world-of-beer/2023-09-28/
LOCATION:World of Beer\, 2107 University Blvd\, Tuscaloosa\, AL\, 35401\, United States
CATEGORIES:Food
END:VEVENT
BEGIN:VEVENT
DTSTART;VALUE=DATE:20230928
DTEND;VALUE=DATE:20230930
DTSTAMP:20260422T181145
CREATED:20220804T225416Z
LAST-MODIFIED:20220902T225543Z
UID:10006323-1695870000-1695956399@tuscaloosaspecials.com
SUMMARY:Wings @ World of Beer
DESCRIPTION:75¢ Traditional and $1 Boneless Wings
URL:https://tuscaloosaspecials.com/event/wings-world-of-beer/2023-09-28/
LOCATION:World of Beer\, 2107 University Blvd\, Tuscaloosa\, AL\, 35401\, United States
CATEGORIES:Food
END:VEVENT
BEGIN:VEVENT
DTSTART;VALUE=DATE:20230927
DTEND;VALUE=DATE:20230929
DTSTAMP:20260422T181145
CREATED:20220803T224911Z
LAST-MODIFIED:20220902T225201Z
UID:10006246-1695783600-1695869999@tuscaloosaspecials.com
SUMMARY:$15 Dragon Berry Mojito Pitchers @ World of Beer
DESCRIPTION:
URL:https://tuscaloosaspecials.com/event/15-dragon-berry-mojito-pitchers-world-of-beer/2023-09-27/
LOCATION:World of Beer\, 2107 University Blvd\, Tuscaloosa\, AL\, 35401\, United States
CATEGORIES:Drink
END:VEVENT
BEGIN:VEVENT
DTSTART;TZID=America/Chicago:20230926T080000
DTEND;TZID=America/Chicago:20230926T170000
DTSTAMP:20260422T181145
CREATED:20230121T012456Z
LAST-MODIFIED:20230121T012456Z
UID:10006965-1695715200-1695747600@tuscaloosaspecials.com
SUMMARY:Tuesdays @ Wheelhouse Sports Pub
DESCRIPTION:$6 doubles\, $8 pitchers\, $15 pizza + pitcher
URL:https://tuscaloosaspecials.com/event/tuesdays-wheelhouse-sports-pub/2023-09-26/
LOCATION:World of Beer\, 2107 University Blvd\, Tuscaloosa\, AL\, 35401\, United States
CATEGORIES:Drink,Food
END:VEVENT
BEGIN:VEVENT
DTSTART;VALUE=DATE:20230926
DTEND;VALUE=DATE:20230928
DTSTAMP:20260422T181145
CREATED:20220802T224635Z
LAST-MODIFIED:20220902T230251Z
UID:10006169-1695697200-1695783599@tuscaloosaspecials.com
SUMMARY:Taco Tuesday & Margaritas @ World of Beer
DESCRIPTION:$2.50 (beef or blackened chicken) or $3.50 (shrimp or crispy chicken) Tacos\, $15 Margarita Pitchers
URL:https://tuscaloosaspecials.com/event/tuesday-specials-world-of-beer/2023-09-26/
LOCATION:World of Beer\, 2107 University Blvd\, Tuscaloosa\, AL\, 35401\, United States
CATEGORIES:Drink,Food
END:VEVENT
BEGIN:VEVENT
DTSTART;VALUE=DATE:20230925
DTEND;VALUE=DATE:20230927
DTSTAMP:20260422T181145
CREATED:20220801T224622Z
LAST-MODIFIED:20230121T013457Z
UID:10006092-1695610800-1695697199@tuscaloosaspecials.com
SUMMARY:Mondays @ World Of Beer
DESCRIPTION:$5.95 Build Your Own Burger\, $5 Domestic Beer Pitchers
URL:https://tuscaloosaspecials.com/event/monday-specials-world-of-beer/2023-09-25/
LOCATION:World of Beer\, 2107 University Blvd\, Tuscaloosa\, AL\, 35401\, United States
CATEGORIES:Drink,Food
END:VEVENT
BEGIN:VEVENT
DTSTART;VALUE=DATE:20230923
DTEND;VALUE=DATE:20230925
DTSTAMP:20260422T181145
CREATED:20230208T014056Z
LAST-MODIFIED:20230208T014056Z
UID:10008153-1695438000-1695524399@tuscaloosaspecials.com
SUMMARY:50 Cent Jumbo Wings @ World of Beer
DESCRIPTION:
URL:https://tuscaloosaspecials.com/event/50-cent-jumbo-wings-world-of-beer/2023-09-23/
LOCATION:World of Beer\, 2107 University Blvd\, Tuscaloosa\, AL\, 35401\, United States
CATEGORIES:Food
END:VEVENT
BEGIN:VEVENT
DTSTART;VALUE=DATE:20230921
DTEND;VALUE=DATE:20230923
DTSTAMP:20260422T181145
CREATED:20230208T014056Z
LAST-MODIFIED:20230208T014056Z
UID:10008152-1695265200-1695351599@tuscaloosaspecials.com
SUMMARY:50 Cent Jumbo Wings @ World of Beer
DESCRIPTION:
URL:https://tuscaloosaspecials.com/event/50-cent-jumbo-wings-world-of-beer/2023-09-21/
LOCATION:World of Beer\, 2107 University Blvd\, Tuscaloosa\, AL\, 35401\, United States
CATEGORIES:Food
END:VEVENT
BEGIN:VEVENT
DTSTART;VALUE=DATE:20230921
DTEND;VALUE=DATE:20230923
DTSTAMP:20260422T181145
CREATED:20220804T225416Z
LAST-MODIFIED:20220902T225543Z
UID:10006322-1695265200-1695351599@tuscaloosaspecials.com
SUMMARY:Wings @ World of Beer
DESCRIPTION:75¢ Traditional and $1 Boneless Wings
URL:https://tuscaloosaspecials.com/event/wings-world-of-beer/2023-09-21/
LOCATION:World of Beer\, 2107 University Blvd\, Tuscaloosa\, AL\, 35401\, United States
CATEGORIES:Food
END:VEVENT
BEGIN:VEVENT
DTSTART;VALUE=DATE:20230920
DTEND;VALUE=DATE:20230922
DTSTAMP:20260422T181145
CREATED:20220803T224911Z
LAST-MODIFIED:20220902T225201Z
UID:10006245-1695178800-1695265199@tuscaloosaspecials.com
SUMMARY:$15 Dragon Berry Mojito Pitchers @ World of Beer
DESCRIPTION:
URL:https://tuscaloosaspecials.com/event/15-dragon-berry-mojito-pitchers-world-of-beer/2023-09-20/
LOCATION:World of Beer\, 2107 University Blvd\, Tuscaloosa\, AL\, 35401\, United States
CATEGORIES:Drink
END:VEVENT
END:VCALENDAR